{"text_format":"3","workbook":"xlsx","n_sheets":8,"sheets":["Layout 1","Layout 2","Layout 3","Layout 4","Version","Layout 5","BDD","allcode"],"not_rendered":{"macros":1},"read":"whole","date_system":"1900"}

{"sheet":"Layout 1","index":0,"n_rows":76,"n_cols":30,"rows_kept":76,"merged":[[0,0,2,29],[3,0,3,29],[4,16,5,17],[6,12,8,13],[6,16,8,17],[9,12,11,13],[9,16,11,17],[10,0,11,1],[10,14,11,15],[12,0,13,1],[12,2,13,3],[12,4,13,5],[12,6,13,7],[12,8,13,9],[12,20,13,21],[12,22,13,23],[12,24,13,25],[12,26,13,27],[12,28,13,29],[15,10,16,11],[15,12,16,13],[15,16,16,17],[15,18,16,19],[17,8,20,9],[17,10,20,11],[17,12,18,13],[17,16,18,17],[17,18,20,19],[17,20,20,21],[19,12,20,13],[19,16,20,17],[22,0,23,1],[22,2,23,3],[22,4,23,5],[22,6,23,7],[22,8,23,9],[22,10,23,11],[22,12,23,13],[22,16,23,17],[22,18,23,19],[22,20,23,21],[22,22,23,23],[22,24,23,25],[22,26,23,27],[22,28,23,29],[24,0,25,1],[24,2,25,3],[24,4,25,5],[24,6,25,7],[24,8,25,9],[24,10,25,11],[24,12,25,13],[24,16,25,17],[24,18,25,19],[24,20,25,21],[24,22,25,23],[24,24,25,25],[24,26,25,27],[24,28,25,29],[26,0,27,1],[26,2,27,3],[26,4,27,5],[26,6,27,7],[26,8,27,9],[26,10,27,11],[26,12,27,13],[26,16,27,17],[26,18,27,19],[26,20,27,21],[26,22,27,23],[26,24,27,25],[26,26,27,27],[26,28,27,29],[28,0,29,1],[28,2,29,3],[28,4,29,5],[28,6,29,7],[28,8,29,9],[28,10,29,11],[28,12,29,13],[28,16,29,17],[28,18,29,19],[28,20,29,21],[28,22,29,23],[28,24,29,25],[28,26,29,27],[28,28,29,29],[30,0,31,1],[30,2,31,3],[30,4,31,5],[30,6,31,7],[30,8,31,9],[30,10,31,11],[30,12,31,13],[30,16,31,17],[30,18,31,19],[30,20,31,21],[30,22,31,23],[30,24,31,25],[30,26,31,27],[30,28,31,29],[34,0,34,13],[34,15,34,35],[35,15,35,35],[36,15,36,35],[37,15,37,35],[38,15,38,35],[39,15,39,35],[40,15,40,35],[41,15,41,35],[42,15,42,35],[43,15,43,35],[44,15,44,35],[45,15,45,35],[46,15,46,35],[47,15,47,35],[48,15,48,35],[49,15,49,35],[50,15,50,35],[51,15,51,35],[52,15,52,35],[53,15,53,35],[54,15,54,35],[55,15,55,35],[56,15,56,35],[57,15,57,35],[58,15,58,35],[59,15,59,35],[60,15,60,35],[61,15,61,35],[62,15,62,35],[63,15,63,35],[64,15,64,35],[65,15,65,35],[66,15,66,35],[67,15,67,35],[68,15,68,35],[69,15,69,35],[70,15,70,35],[71,15,71,35],[72,15,72,35],[73,15,73,35],[74,15,74,35],[75,15,75,35]]}
["BASE"]
[]
[]
["Keymap 0: Basic layer"]
["#","¶",1,"„",2,"“",3,"”",4,"≤",5,"≥","°","′",null,null,"Del",null,6,null,7,"¬",8,"¼",9,"½",0,"¾","`","″"]
["$","–","\\\"","—","«","<","»",">","»","[",")","]","=","≠",{"$nulls":4},"@","^","+","±","-","−","/","÷","*","×","%","‰"]
["Ê",null,"B","¦","É","˝","P","§","O","Œ","È","`","Tab",{"$nulls":3},"Backspace",null,"!",null,"V",null,"D","Ð","L",null,"J","Ĳ","Z","Ə"]
["ê","/","b","|","é","´","p","&","o","œ","è","`",{"$nulls":6},"^","¡","v","ˇ","d","ð","l",null,"j","ĳ","z","ə"]
["W",null,"A","Æ","U","Ù","I","˙","E","¤",";",{"$nulls":7},"C","ſ","T","Þ","S","ẞ","R","™","N",null,"M","º"]
["w","˘","a","æ","u","ù","i","¨","e","€",",","’","Enter",{"$nulls":3},"Enter",null,"c","©","t","þ","s","ß","r","®","n","~","m","¯"]
["ShiftG",null,"À",null,"Y","‘","X","’",":","·","K","⌨",{"$nulls":6},"?","̉̉̉","Q","̣̣̣̣","G",null,"H","‡","F","ª","Ç",","]
[null,null,"à","\\\\","y","{","x","}",".","…","k","~",{"$nulls":6},"'","¿","q","°","g","µ","h","†","f","˛","ç","¸"]
["CtrlG",null,"Alt",null,"GUIL",null,"Alt Gr",null,"ShiftG",{"$nulls":11},"Fn2",null,"Alt Gr",null,"GUID",null,"Alt",null,"CtrlD"]
[]
[]
[{"$nulls":10},"Fn3",null,"Esc",{"$nulls":3},"Caps Lock",null,"Fn3"]
[]
[{"$nulls":8},"Space",null,"Fn1",null,"Alt",{"$nulls":3},"Alt",null,"ShiftD",null,"Space"]
[]
[{"$nulls":12},"Fn2",{"$nulls":3},"Fn4"]
[]
[]
[{"$f":"\"\" & A5 & \"\\n\" & A6 & \"\\n\" & B5 & \"\\n\" & B6","v":"#\\n$\\n¶\\n–"},null,{"$f":"\"\" & C5 & \"\\n\" & C6 & \"\\n\" & D5 & \"\\n\" & D6","v":"1\\n\\\"\\n„\\n—"},null,"2\\n«\\n“\\n<",null,"3\\n»\\n”\\n>",null,"4\\n»\\n≤\\n[",null,"5\\n)\\n≥\\n]",null,"°\\n=\\n′\\n≠",{"$nulls":3},"Del\\n\\n\\n",null,"6\\n@\\n\\n^",null,"7\\n+\\n¬\\n±",null,"8\\n-\\n¼\\n−",null,"9\\n/\\n½\\n÷",null,"0\\n*\\n¾\\n×",null,"`\\n%\\n″\\n‰"]
[]
[{"$f":"\"\" & A7 & \"\\n\" & A8 & \"\\n\" & B7 & \"\\n\" & B8","v":"Ê\\nê\\n\\n/"},null,{"$f":"\"\" & C7 & \"\\n\" & C8 & \"\\n\" & D7 & \"\\n\" & D8","v":"B\\nb\\n¦\\n|"},null,{"$f":"\"\" & E7 & \"\\n\" & E8 & \"\\n\" & F7 & \"\\n\" & F8","v":"É\\né\\n˝\\n´"},null,{"$f":"\"\" & G7 & \"\\n\" & G8 & \"\\n\" & H7 & \"\\n\" & H8","v":"P\\np\\n§\\n&"},null,{"$f":"\"\" & I7 & \"\\n\" & I8 & \"\\n\" & J7 & \"\\n\" & J8","v":"O\\no\\nŒ\\nœ"},null,{"$f":"\"\" & K7 & \"\\n\" & K8 & \"\\n\" & L7 & \"\\n\" & L8","v":"È\\nè\\n`\\n`"},null,{"$f":"M7","v":"Tab"},{"$nulls":3},{"$f":"Q7","v":"Backspace"},null,{"$f":"\"\" & S7 & \"\\n\" & S8 & \"\\n\" & T7 & \"\\n\" & T8","v":"!\\n^\\n\\n¡"},null,{"$f":"\"\" & U7 & \"\\n\" & U8 & \"\\n\" & V7 & \"\\n\" & V8","v":"V\\nv\\n\\nˇ"},null,{"$f":"\"\" & W7 & \"\\n\" & W8 & \"\\n\" & X7 & \"\\n\" & X8","v":"D\\nd\\nÐ\\nð"},null,{"$f":"\"\" & Y7 & \"\\n\" & Y8 & \"\\n\" & Z7 & \"\\n\" & Z8","v":"L\\nl\\n\\n"},null,{"$f":"\"\" & AA7 & \"\\n\" & AA8 & \"\\n\" & AB7 & \"\\n\" & AB8","v":"J\\nj\\nĲ\\nĳ"},null,{"$f":"\"\" & AC7 & \"\\n\" & AC8 & \"\\n\" & AD7 & \"\\n\" & AD8","v":"Z\\nz\\nƏ\\nə"}]
[]
[{"$f":"\"\" & A9 & \"\\n\" & A10 & \"\\n\" & B9 & \"\\n\" & B10","v":"W\\nw\\n\\n˘"},null,{"$f":"\"\" & C9 & \"\\n\" & C10 & \"\\n\" & D9 & \"\\n\" & D10","v":"A\\na\\nÆ\\næ"},null,{"$f":"\"\" & E9 & \"\\n\" & E10 & \"\\n\" & F9 & \"\\n\" & F10","v":"U\\nu\\nÙ\\nù"},null,{"$f":"\"\" & G9 & \"\\n\" & G10 & \"\\n\" & H9 & \"\\n\" & H10","v":"I\\ni\\n˙\\n¨"},null,{"$f":"\"\" & I9 & \"\\n\" & I10 & \"\\n\" & J9 & \"\\n\" & J10","v":"E\\ne\\n¤\\n€"},null,{"$f":"\"\" & K9 & \"\\n\" & K10 & \"\\n\" & L9 & \"\\n\" & L10","v":";\\n,\\n\\n’"},null,{"$f":"M10","v":"Enter"},{"$nulls":3},{"$f":"Q10","v":"Enter"},null,{"$f":"\"\" & S9 & \"\\n\" & S10 & \"\\n\" & T9 & \"\\n\" & T10","v":"C\\nc\\nſ\\n©"},null,{"$f":"\"\" & U9 & \"\\n\" & U10 & \"\\n\" & V9 & \"\\n\" & V10","v":"T\\nt\\nÞ\\nþ"},null,{"$f":"\"\" & W9 & \"\\n\" & W10 & \"\\n\" & X9 & \"\\n\" & X10","v":"S\\ns\\nẞ\\nß"},null,{"$f":"\"\" & Y9 & \"\\n\" & Y10 & \"\\n\" & Z9 & \"\\n\" & Z10","v":"R\\nr\\n™\\n®"},null,{"$f":"\"\" & AA9 & \"\\n\" & AA10 & \"\\n\" & AB9 & \"\\n\" & AB10","v":"N\\nn\\n\\n~"},null,{"$f":"\"\" & AC9 & \"\\n\" & AC10 & \"\\n\" & AD9 & \"\\n\" & AD10","v":"M\\nm\\nº\\n¯"}]
[]
[{"$f":"\"\" & A11 & \"\\n\" & A12 & \"\\n\" & B11 & \"\\n\" & B12","v":"ShiftG\\n\\n\\n"},null,{"$f":"\"\" & C11 & \"\\n\" & C12 & \"\\n\" & D11 & \"\\n\" & D12","v":"À\\nà\\n\\n\\\\"},null,{"$f":"\"\" & E11 & \"\\n\" & E12 & \"\\n\" & F11 & \"\\n\" & F12","v":"Y\\ny\\n‘\\n{"},null,{"$f":"\"\" & G11 & \"\\n\" & G12 & \"\\n\" & H11 & \"\\n\" & H12","v":"X\\nx\\n’\\n}"},null,{"$f":"\"\" & I11 & \"\\n\" & I12 & \"\\n\" & J11 & \"\\n\" & J12","v":":\\n.\\n·\\n…"},null,{"$f":"\"\" & K11 & \"\\n\" & K12 & \"\\n\" & L11 & \"\\n\" & L12","v":"K\\nk\\n⌨\\n~"},{"$nulls":7},{"$f":"\"\" & S11 & \"\\n\" & S12 & \"\\n\" & T11 & \"\\n\" & T12","v":"?\\n'\\n̉̉̉\\n¿"},null,{"$f":"\"\" & U11 & \"\\n\" & U12 & \"\\n\" & V11 & \"\\n\" & V12","v":"Q\\nq\\ṇ̣̣̣\\n°"},null,{"$f":"\"\" & W11 & \"\\n\" & W12 & \"\\n\" & X11 & \"\\n\" & X12","v":"G\\ng\\n\\nµ"},null,{"$f":"\"\" & Y11 & \"\\n\" & Y12 & \"\\n\" & Z11 & \"\\n\" & Z12","v":"H\\nh\\n‡\\n†"},null,{"$f":"\"\" & AA11 & \"\\n\" & AA12 & \"\\n\" & AB11 & \"\\n\" & AB12","v":"F\\nf\\nª\\n˛"},null,{"$f":"\"\" & AC11 & \"\\n\" & AC12 & \"\\n\" & AD11 & \"\\n\" & AD12","v":"Ç\\nç\\n,\\n¸"}]
[]
[{"$f":"\"\" & A13 & \"\\n\" & A14 & \"\\n\" & B13 & \"\\n\" & B14","v":"CtrlG\\n\\n\\n"},null,{"$f":"\"\" & C13 & \"\\n\" & C14 & \"\\n\" & D13 & \"\\n\" & D14","v":"Alt\\n\\n\\n"},null,{"$f":"\"\" & E13 & \"\\n\" & E14 & \"\\n\" & F13 & \"\\n\" & F14","v":"GUIL\\n\\n\\n"},null,{"$f":"\"\" & G13 & \"\\n\" & G14 & \"\\n\" & H13 & \"\\n\" & H14","v":"Alt Gr\\n\\n\\n"},null,{"$f":"\"\" & I13 & \"\\n\" & I14 & \"\\n\" & J13 & \"\\n\" & J14","v":"ShiftG\\n\\n\\n"},{"$nulls":11},{"$f":"\"\" & U13 & \"\\n\" & U14 & \"\\n\" & V13 & \"\\n\" & V14","v":"Fn2\\n\\n\\n"},null,{"$f":"\"\" & W13 & \"\\n\" & W14 & \"\\n\" & X13 & \"\\n\" & X14","v":"Alt Gr\\n\\n\\n"},null,{"$f":"\"\" & Y13 & \"\\n\" & Y14 & \"\\n\" & Z13 & \"\\n\" & Z14","v":"GUID\\n\\n\\n"},null,{"$f":"\"\" & AA13 & \"\\n\" & AA14 & \"\\n\" & AB13 & \"\\n\" & AB14","v":"Alt\\n\\n\\n"},null,{"$f":"\"\" & AC13 & \"\\n\" & AC14 & \"\\n\" & AD13 & \"\\n\" & AD14","v":"CtrlD\\n\\n\\n"}]
[]
[]
[]
["http://www.keyboard-layout-editor.com (raffraichissement automatique)",{"$nulls":14},"Code layout (à coller dans Keymap.c) Raffraichissement manuel (Via macro) "]
[{"$f":"\"[{x:3.5},\"\"\"&G23&\"\"\",{x:10.5},\"\"\"&W23&\"\"\"],\"","v":"[{x:3.5},\"3\\n»\\n”\\n>\",{x:10.5},\"8\\n-\\n¼\\n−\"],"},{"$nulls":14},"/*Keymap 0: Basic layer"]
[{"$f":"\"[{y:-0.875,x:2.5},\"\"\" & E23 & \"\"\",{x:1},\"\"\" & I23 & \"\"\",{x:8.5},\"\"\" & U23 & \"\"\",{x:1},\"\"\" & Y23 & \"\"\"],\"","v":"[{y:-0.875,x:2.5},\"2\\n«\\n“\\n<\",{x:1},\"4\\n»\\n≤\\n[\",{x:8.5},\"7\\n+\\n¬\\n±\",{x:1},\"9\\n/\\n½\\n÷\"],"},{"$nulls":14},"*"]
[{"$f":"\"[{y:-0.875,x:5.5},\"\"\" & K23 & \"\"\",\"\"\" & M23 &\"\"\",{x:4.5},\"\"\"& Q23 & \"\"\",\"\"\" & S23 & \"\"\"],\"","v":"[{y:-0.875,x:5.5},\"5\\n)\\n≥\\n]\",\"°\\n=\\n′\\n≠\",{x:4.5},\"Del\\n\\n\\n\",\"6\\n@\\n\\n^\"],"},{"$nulls":14},"* ,--------------------------------------------------.           ,--------------------------------------------------."]
[{"$f":"\"[{y:-0.875,w:1.5},\"\"\" & A23 & \"\"\",\"\"\" & C23 & \"\"\",{x:14.5},\"\"\" &AA23 &\"\"\",{w:1.5},\"\"\" & AC23 & \"\"\"],\"","v":"[{y:-0.875,w:1.5},\"#\\n$\\n¶\\n–\",\"1\\n\\\"\\n„\\n—\",{x:14.5},\"0\\n*\\n¾\\n×\",{w:1.5},\"`\\n%\\n″\\n‰\"],"},{"$nulls":14},"* |   $    |  \"   |  «   |  »   |  »   |  )   |  =   |           | Del  |  @   |  +   |  -   |  /   |  *   |   %    |"]
[{"$f":"\"[{y:-0.375,x:3.5},\"\"\" & G25 & \"\"\",{x:10.5},\"\"\" & W25&\"\"\"],\"","v":"[{y:-0.375,x:3.5},\"P\\np\\n§\\n&\",{x:10.5},\"D\\nd\\nÐ\\nð\"],"},{"$nulls":14},"* |--------+------+------+------+------+------+------|           |------+------+------+------+------+------+--------|"]
[{"$f":"\"[{y:-0.875,x:2.5},\"\"\" & E25 &\"\"\",{x:1},\"\"\" & I25 &\"\"\",{x:8.5},\"\"\" & U25 &\"\"\",{x:1},\"\"\" & Y25 &\"\"\"],\"","v":"[{y:-0.875,x:2.5},\"É\\né\\n˝\\n´\",{x:1},\"O\\no\\nŒ\\nœ\",{x:8.5},\"V\\nv\\n\\nˇ\",{x:1},\"L\\nl\\n\\n\"],"},{"$nulls":14},"* |   ê    |  b   |  é   |  p   |  o   |  è   | Tab  |           |Backsp|  ^   |  v   |  d   |  l   |  j   |   z    |"]
[{"$f":"\"[{y:-0.875,x:5.5},\"\"\" & K25 & \"\"\" ,{h:1.5},\"\"\" & M25 & \"\"\",{x:4.5,h:1.5},\"\"\" & Q25 & \"\"\",\"\"\" & S25 & \"\"\"],\"","v":"[{y:-0.875,x:5.5},\"È\\nè\\n`\\n`\" ,{h:1.5},\"Tab\",{x:4.5,h:1.5},\"Backspace\",\"!\\n^\\n\\n¡\"],"},{"$nulls":14},"* |--------+------+------+------+------+------|      |           |      |------+------+------+------+------+--------|"]
[{"$f":" \"[{y:-0.875,w:1.5},\"\"\" & A25 &\"\"\",\"\"\" & C25 &\"\"\",{x:14.5},\"\"\" & AA25 &\"\"\",{w:1.5},\"\"\" & AC25 &\"\"\"],\"","v":"[{y:-0.875,w:1.5},\"Ê\\nê\\n\\n/\",\"B\\nb\\n¦\\n|\",{x:14.5},\"J\\nj\\nĲ\\nĳ\",{w:1.5},\"Z\\nz\\nƏ\\nə\"],"},{"$nulls":14},"* |   w    |  a   |  u   |  i   |  e   |  ,   |------|           |------|  c   |  t   |  s   |  r   |  n   |   m    |"]
[{"$f":"\"[{y:-0.375,x:3.5},\"\"\" & G27& \"\"\",{x:10.5},\"\"\" & W27& \"\"\"],\"","v":"[{y:-0.375,x:3.5},\"I\\ni\\n˙\\n¨\",{x:10.5},\"S\\ns\\nẞ\\nß\"],"},{"$nulls":14},"* |--------+------+------+------+------+------|      |           |      |------+------+------+------+------+--------|"]
[{"$f":"\"[{y:-0.875,x:2.5},\"\"\" &E27& \"\"\",{x:1},\"\"\" &I27& \"\"\",{x:8.5},\"\"\" &U27& \"\"\",{x:1},\"\"\" &Y27& \"\"\"],\"","v":"[{y:-0.875,x:2.5},\"U\\nu\\nÙ\\nù\",{x:1},\"E\\ne\\n¤\\n€\",{x:8.5},\"T\\nt\\nÞ\\nþ\",{x:1},\"R\\nr\\n™\\n®\"],"},{"$nulls":14},"* | ShiftG |  à   |  y   |  x   |  .   |  k   |Enter |           |Enter |  '   |  q   |  g   |  h   |  f   |   ç    |"]
[{"$f":"\"[{y:-0.875,x:5.5},\"\"\" & K27 &\"\"\",{x:6.5},\"\"\" & S27 & \"\"\"],\"","v":"[{y:-0.875,x:5.5},\";\\n,\\n\\n’\",{x:6.5},\"C\\nc\\nſ\\n©\"],"},{"$nulls":14},"* `--------+------+------+------+------+-------------'           `-------------+------+------+------+------+--------'"]
[{"$f":"\"[{y:-0.875,w:1.5},\"\"\" & A27 & \"\"\",\"\"\" & C27 & \"\"\",{x:14.5},\"\"\" & AA27 & \"\"\",{w:1.5},\"\"\" & AC27 & \"\"\"],\"","v":"[{y:-0.875,w:1.5},\"W\\nw\\n\\n˘\",\"A\\na\\nÆ\\næ\",{x:14.5},\"N\\nn\\n\\n~\",{w:1.5},\"M\\nm\\nº\\n¯\"],"},{"$nulls":14},"*   |CtrlG | Alt  | GUIL |Alt Gr|ShiftG|                                       | Fn2  |Alt Gr| GUID | Alt  |CtrlD   |"]
[{"$f":"\"[{y:-0.625,x:6.5,h:1.5},\"\"\" & M27 & \"\"\",{x:4.5,h:1.5},\"\"\" & Q27 & \"\"\"],\"","v":"[{y:-0.625,x:6.5,h:1.5},\"Enter\",{x:4.5,h:1.5},\"Enter\"],"},{"$nulls":14},"*   `----------------------------------'                                       `----------------------------------'"]
[{"$f":"\"[{y:-0.75,x:3.5},\"\"\" & G29 & \"\"\",{x:10.5},\"\"\" & W29 & \"\"\"],\"","v":"[{y:-0.75,x:3.5},\"X\\nx\\n’\\n}\",{x:10.5},\"G\\ng\\n\\nµ\"],"},{"$nulls":14},"*                                        ,-------------.       ,-------------."]
[{"$f":"\"[{y:-0.875,x:2.5},\"\"\" & E29& \"\"\",{x:1},\"\"\" &I29 & \"\"\",{x:8.5},\"\"\" & U29& \"\"\",{x:1},\"\"\" &Y29 & \"\"\"],\"","v":"[{y:-0.875,x:2.5},\"Y\\ny\\n‘\\n{\",{x:1},\":\\n.\\n·\\n…\",{x:8.5},\"Q\\nq\\ṇ̣̣̣\\n°\",{x:1},\"H\\nh\\n‡\\n†\"],"},{"$nulls":14},"*                                        | Fn3  | Esc  |       |Caps L| Fn3  |       "]
[{"$f":"\"[{y:-0.875,x:5.5},\"\"\" & K29& \"\"\",{x:6.5},\"\"\" &S29 & \"\"\"],\"","v":"[{y:-0.875,x:5.5},\"K\\nk\\n⌨\\n~\",{x:6.5},\"?\\n'\\n̉̉̉\\n¿\"],"},{"$nulls":14},"*                                 ,------|------|------|       |------+------+------."]
[{"$f":"\"[{y:-0.875,w:1.5},\"\"\" &A29& \"\"\",\"\"\" &C29& \"\"\",{x:14.5},\"\"\" &AA29& \"\"\",{w:1.5},\"\"\" &AC29& \"\"\"],\"","v":"[{y:-0.875,w:1.5},\"ShiftG\\n\\n\\n\",\"À\\nà\\n\\n\\\\\",{x:14.5},\"F\\nf\\nª\\n˛\",{w:1.5},\"Ç\\nç\\n,\\n¸\"],"},{"$nulls":14},"*                                 |      |      | Alt  |       | Alt  |      |      |"]
[{"$f":"\"[{y:-0.375,x:3.5},\"\"\" & G31& \"\"\",{x:10.5},\"\"\" & W31& \"\"\"],\"","v":"[{y:-0.375,x:3.5},\"Alt Gr\\n\\n\\n\",{x:10.5},\"Alt Gr\\n\\n\\n\"],"},{"$nulls":14},"*                                 |      |      |------|       |------|      |      |"]
[{"$f":"\"[{y:-0.875,x:2.5},\"\"\" & E31& \"\"\",{x:1},\"\"\" & I31& \"\"\",{x:8.5},\"\"\" &U31 & \"\"\",{x:1},\"\"\" & Y31& \"\"\"],\"","v":"[{y:-0.875,x:2.5},\"GUIL\\n\\n\\n\",{x:1},\"ShiftG\\n\\n\\n\",{x:8.5},\"Fn2\\n\\n\\n\",{x:1},\"GUID\\n\\n\\n\"],"},{"$nulls":14},"*                                 |Space | Fn1  | Fn2  |       | Fn4  |ShiftD|Space |"]
[{"$f":"\"[{y:-0.75,x:0.5},\"\"\" & A31& \"\"\",\"\"\" & C31& \"\"\",{x:14.5},\"\"\" & AA31& \"\"\",\"\"\" &AC31 & \"\"\"],\"","v":"[{y:-0.75,x:0.5},\"CtrlG\\n\\n\\n\",\"Alt\\n\\n\\n\",{x:14.5},\"Alt\\n\\n\\n\",\"CtrlD\\n\\n\\n\"],"},{"$nulls":14},"*                                 `--------------------'       `--------------------'"]
[{"$f":"\"[{r:30,rx:6.5,ry:4.25,y:-1,x:1},\"\"\" &K16 & \"\"\",\"\"\" &M16 & \"\"\"],\"","v":"[{r:30,rx:6.5,ry:4.25,y:-1,x:1},\"Fn3\",\"Esc\"],"},{"$nulls":14},"*/"]
[{"$f":"\"[{h:2},\"\"\" &I18& \"\"\",{h:2},\"\"\" &K18& \"\"\",\"\"\" &M18& \"\"\"],\"","v":"[{h:2},\"Space\",{h:2},\"Fn1\",\"Alt\"],"},{"$nulls":14},"[BASE] = LAYOUT_ergodox("]
[{"$f":"\"[{x:2},\"\"\" &M20&\"\"\"],\"","v":"[{x:2},\"Fn2\"],"},{"$nulls":14},"//Left hand"]
[{"$f":"\"[{r:-30,rx:13,y:-1,x:-3},\"\"\" & Q16 & \"\"\",\"\"\" & S16 & \"\"\"],\"","v":"[{r:-30,rx:13,y:-1,x:-3},\"Caps Lock\",\"Fn3\"],"},{"$nulls":14},"        BP_DLR         ,BP_DQOT        ,BP_LGIL        ,BP_RGIL        ,BP_RGIL        ,BP_RPRN        ,BP_EQL         ,"]
[{"$f":"\"[{x:-3},\"\"\" &Q18& \"\"\",{h:2},\"\"\" &S18& \"\"\",{h:2},\"\"\" &U18& \"\"\"],\"","v":"[{x:-3},\"Alt\",{h:2},\"ShiftD\",{h:2},\"Space\"],"},{"$nulls":14},"        BP_ECRC        ,BP_B           ,BP_ECUT        ,BP_P           ,BP_O           ,BP_EGRV        ,KC_TAB         ,"]
[{"$f":"\"[{x:-3},\"\"\"&Q20&\"\"\"]\"","v":"[{x:-3},\"Fn4\"]"},{"$nulls":14},"        BP_W           ,BP_A           ,BP_U           ,BP_I           ,BP_E           ,BP_COMM        ,                "]
[{"$nulls":15},"        KC_LSFT        ,BP_AGRV        ,BP_Y           ,BP_X           ,BP_DOT         ,BP_K           ,KC_ENT         ,"]
[{"$nulls":15},"        KC_LCTL        ,KC_LALT        ,KC_LGUI        ,BP_ALGR        ,KC_LSFT        ,                                "]
[{"$nulls":15},"                                                                                        KC_FN3         ,KC_ESC         ,"]
[{"$nulls":15},"                                                                                                        KC_LALT        ,"]
[{"$nulls":15},"                                                                        KC_SPC         ,KC_FN1         ,KC_FN2         ,"]
[{"$nulls":15},"//Right hand"]
[{"$nulls":15},"        KC_DELT        ,BP_AT          ,BP_PLUS        ,BP_MINS        ,BP_SLSH        ,BP_ASTR        ,BP_PERC        ,"]
[{"$nulls":15},"        KC_BSPC        ,BP_DCRC        ,BP_V           ,BP_D           ,BP_L           ,BP_J           ,BP_Z           ,"]
[{"$nulls":15},"                        BP_C           ,BP_T           ,BP_S           ,BP_R           ,BP_N           ,BP_M           ,"]
[{"$nulls":15},"        KC_ENT         ,BP_APOS        ,BP_Q           ,BP_G           ,BP_H           ,BP_F           ,BP_CCED        ,"]
[{"$nulls":15},"                                        KC_FN2         ,BP_ALGR        ,KC_RGUI        ,KC_LALT        ,KC_RCTL        ,"]
[{"$nulls":15},"        KC_CAPS        ,KC_FN3         ,                                                                                "]
[{"$nulls":15},"        KC_LALT        ,                                                                                                "]
[{"$nulls":15},"        KC_FN4         ,KC_RSFT        ,KC_SPC                                                                         "]
[{"$nulls":15},"    ),"]

{"sheet":"Layout 2","index":1,"n_rows":76,"n_cols":30,"rows_kept":76,"merged":[[0,0,2,29],[3,0,3,29],[4,0,5,1],[4,2,5,3],[4,4,5,5],[4,6,5,7],[4,8,5,9],[4,10,5,11],[4,12,5,13],[4,16,5,17],[4,18,5,19],[6,0,7,1],[6,2,7,3],[6,4,7,5],[6,6,7,7],[6,8,7,9],[6,10,7,11],[6,12,8,13],[6,16,8,17],[6,18,7,19],[6,20,7,21],[6,22,7,23],[6,24,7,25],[6,26,7,27],[6,28,7,29],[8,0,9,1],[8,2,9,3],[8,4,9,5],[8,6,9,7],[8,8,9,9],[8,10,9,11],[8,18,9,19],[8,20,9,21],[8,22,9,23],[8,24,9,25],[8,26,9,27],[8,28,9,29],[9,12,11,13],[9,16,11,17],[10,0,11,1],[10,2,11,3],[10,4,11,5],[10,6,11,7],[10,8,11,9],[10,10,11,11],[10,14,11,15],[10,18,11,19],[10,20,11,21],[10,22,11,23],[10,24,11,25],[10,26,11,27],[10,28,11,29],[12,0,13,1],[12,2,13,3],[12,6,13,7],[12,22,13,23],[12,26,13,27],[12,28,13,29],[15,10,16,11],[15,12,16,13],[15,16,16,17],[15,18,16,19],[17,8,20,9],[17,10,20,11],[17,12,18,13],[17,16,18,17],[17,18,20,19],[17,20,20,21],[19,12,20,13],[19,16,20,17],[22,0,23,1],[22,2,23,3],[22,4,23,5],[22,6,23,7],[22,8,23,9],[22,10,23,11],[22,12,23,13],[22,16,23,17],[22,18,23,19],[22,20,23,21],[22,22,23,23],[22,24,23,25],[22,26,23,27],[22,28,23,29],[24,0,25,1],[24,2,25,3],[24,4,25,5],[24,6,25,7],[24,8,25,9],[24,10,25,11],[24,12,25,13],[24,16,25,17],[24,18,25,19],[24,20,25,21],[24,22,25,23],[24,24,25,25],[24,26,25,27],[24,28,25,29],[26,0,27,1],[26,2,27,3],[26,4,27,5],[26,6,27,7],[26,8,27,9],[26,10,27,11],[26,12,27,13],[26,16,27,17],[26,18,27,19],[26,20,27,21],[26,22,27,23],[26,24,27,25],[26,26,27,27],[26,28,27,29],[28,0,29,1],[28,2,29,3],[28,4,29,5],[28,6,29,7],[28,8,29,9],[28,10,29,11],[28,12,29,13],[28,16,29,17],[28,18,29,19],[28,20,29,21],[28,22,29,23],[28,24,29,25],[28,26,29,27],[28,28,29,29],[30,0,31,1],[30,2,31,3],[30,4,31,5],[30,6,31,7],[30,8,31,9],[30,10,31,11],[30,12,31,13],[30,16,31,17],[30,18,31,19],[30,20,31,21],[30,22,31,23],[30,24,31,25],[30,26,31,27],[30,28,31,29],[34,0,34,13],[34,15,34,35],[35,15,35,35],[36,15,36,35],[37,15,37,35],[38,15,38,35],[39,15,39,35],[40,15,40,35],[41,15,41,35],[42,15,42,35],[43,15,43,35],[44,15,44,35],[45,15,45,35],[46,15,46,35],[47,15,47,35],[48,15,48,35],[49,15,49,35],[50,15,50,35],[51,15,51,35],[52,15,52,35],[53,15,53,35],[54,15,54,35],[55,15,55,35],[56,15,56,35],[57,15,57,35],[58,15,58,35],[59,15,59,35],[60,15,60,35],[61,15,61,35],[62,15,62,35],[63,15,63,35],[64,15,64,35],[65,15,65,35],[66,15,66,35],[67,15,67,35],[68,15,68,35],[69,15,69,35],[70,15,70,35],[71,15,71,35],[72,15,72,35],[73,15,73,35],[74,15,74,35],[75,15,75,35]]}
["NUM"]
[]
[]
["Keymap 1: Numéric layer"]
[{"$nulls":16},"Del",{"$nulls":3},7,"¬",8,"¼",9,"½",0,"¾","`","″"]
[{"$nulls":20},"+","±","-","−","/","÷","*","×","%","‰"]
[{"$nulls":4},9,null,8,null,7,{"$nulls":3},"+",{"$nulls":3},"/",{"$nulls":3},7,null,8,null,9]
[]
[{"$nulls":4},6,null,5,null,4,null,"Cut",{"$nulls":7},"Copy",null,4,null,5,null,6]
[{"$nulls":12},"-",{"$nulls":3},"*"]
[{"$nulls":4},3,null,2,null,1,{"$nulls":11},1,null,2,null,3]
[]
["Calc",{"$nulls":3},":","·",0,null,";",{"$nulls":11},";",null,0,null,":","·"]
[{"$nulls":4},".","…",null,null,",","’",{"$nulls":10},",","’",null,null,".","…"]
[]
[{"$nulls":10},"Fn3",null,"Esc",{"$nulls":3},"Caps Lock",null,"Fn3"]
[]
[{"$nulls":8},0,{"$nulls":9},"Paste",null,0]
[]
[{"$nulls":12},1,{"$nulls":3},1]
[]
[]
[{"$f":"\"\" & A5 & \"\\n\" & A6 & \"\\n\" & B5 & \"\\n\" & B6","v":"\\n\\n\\n"},null,{"$f":"\"\" & C5 & \"\\n\" & C6 & \"\\n\" & D5 & \"\\n\" & D6","v":"\\n\\n\\n"},null,"\\n\\n\\n",null,"\\n\\n\\n",null,"\\n\\n\\n",null,"\\n\\n\\n",null,"\\n\\n\\n",{"$nulls":3},"Del\\n\\n\\n",null,"\\n\\n\\n",null,"7\\n+\\n¬\\n±",null,"8\\n-\\n¼\\n−",null,"9\\n/\\n½\\n÷",null,"0\\n*\\n¾\\n×",null,"`\\n%\\n″\\n‰"]
[]
[{"$f":"\"\" & A7 & \"\\n\" & A8 & \"\\n\" & B7 & \"\\n\" & B8","v":"\\n\\n\\n"},null,{"$f":"\"\" & C7 & \"\\n\" & C8 & \"\\n\" & D7 & \"\\n\" & D8","v":"\\n\\n\\n"},null,{"$f":"\"\" & E7 & \"\\n\" & E8 & \"\\n\" & F7 & \"\\n\" & F8","v":"9\\n\\n\\n"},null,{"$f":"\"\" & G7 & \"\\n\" & G8 & \"\\n\" & H7 & \"\\n\" & H8","v":"8\\n\\n\\n"},null,{"$f":"\"\" & I7 & \"\\n\" & I8 & \"\\n\" & J7 & \"\\n\" & J8","v":"7\\n\\n\\n"},null,{"$f":"\"\" & K7 & \"\\n\" & K8 & \"\\n\" & L7 & \"\\n\" & L8","v":"\\n\\n\\n"},null,{"$f":"M7","v":"+"},{"$nulls":3},{"$f":"Q7","v":"/"},null,{"$f":"\"\" & S7 & \"\\n\" & S8 & \"\\n\" & T7 & \"\\n\" & T8","v":"\\n\\n\\n"},null,{"$f":"\"\" & U7 & \"\\n\" & U8 & \"\\n\" & V7 & \"\\n\" & V8","v":"7\\n\\n\\n"},null,{"$f":"\"\" & W7 & \"\\n\" & W8 & \"\\n\" & X7 & \"\\n\" & X8","v":"8\\n\\n\\n"},null,{"$f":"\"\" & Y7 & \"\\n\" & Y8 & \"\\n\" & Z7 & \"\\n\" & Z8","v":"9\\n\\n\\n"},null,{"$f":"\"\" & AA7 & \"\\n\" & AA8 & \"\\n\" & AB7 & \"\\n\" & AB8","v":"\\n\\n\\n"},null,{"$f":"\"\" & AC7 & \"\\n\" & AC8 & \"\\n\" & AD7 & \"\\n\" & AD8","v":"\\n\\n\\n"}]
[]
[{"$f":"\"\" & A9 & \"\\n\" & A10 & \"\\n\" & B9 & \"\\n\" & B10","v":"\\n\\n\\n"},null,{"$f":"\"\" & C9 & \"\\n\" & C10 & \"\\n\" & D9 & \"\\n\" & D10","v":"\\n\\n\\n"},null,{"$f":"\"\" & E9 & \"\\n\" & E10 & \"\\n\" & F9 & \"\\n\" & F10","v":"6\\n\\n\\n"},null,{"$f":"\"\" & G9 & \"\\n\" & G10 & \"\\n\" & H9 & \"\\n\" & H10","v":"5\\n\\n\\n"},null,{"$f":"\"\" & I9 & \"\\n\" & I10 & \"\\n\" & J9 & \"\\n\" & J10","v":"4\\n\\n\\n"},null,{"$f":"\"\" & K9 & \"\\n\" & K10 & \"\\n\" & L9 & \"\\n\" & L10","v":"Cut\\n\\n\\n"},null,{"$f":"M10","v":"-"},{"$nulls":3},{"$f":"Q10","v":"*"},null,{"$f":"\"\" & S9 & \"\\n\" & S10 & \"\\n\" & T9 & \"\\n\" & T10","v":"Copy\\n\\n\\n"},null,{"$f":"\"\" & U9 & \"\\n\" & U10 & \"\\n\" & V9 & \"\\n\" & V10","v":"4\\n\\n\\n"},null,{"$f":"\"\" & W9 & \"\\n\" & W10 & \"\\n\" & X9 & \"\\n\" & X10","v":"5\\n\\n\\n"},null,{"$f":"\"\" & Y9 & \"\\n\" & Y10 & \"\\n\" & Z9 & \"\\n\" & Z10","v":"6\\n\\n\\n"},null,{"$f":"\"\" & AA9 & \"\\n\" & AA10 & \"\\n\" & AB9 & \"\\n\" & AB10","v":"\\n\\n\\n"},null,{"$f":"\"\" & AC9 & \"\\n\" & AC10 & \"\\n\" & AD9 & \"\\n\" & AD10","v":"\\n\\n\\n"}]
[]
[{"$f":"\"\" & A11 & \"\\n\" & A12 & \"\\n\" & B11 & \"\\n\" & B12","v":"\\n\\n\\n"},null,{"$f":"\"\" & C11 & \"\\n\" & C12 & \"\\n\" & D11 & \"\\n\" & D12","v":"\\n\\n\\n"},null,{"$f":"\"\" & E11 & \"\\n\" & E12 & \"\\n\" & F11 & \"\\n\" & F12","v":"3\\n\\n\\n"},null,{"$f":"\"\" & G11 & \"\\n\" & G12 & \"\\n\" & H11 & \"\\n\" & H12","v":"2\\n\\n\\n"},null,{"$f":"\"\" & I11 & \"\\n\" & I12 & \"\\n\" & J11 & \"\\n\" & J12","v":"1\\n\\n\\n"},null,{"$f":"\"\" & K11 & \"\\n\" & K12 & \"\\n\" & L11 & \"\\n\" & L12","v":"\\n\\n\\n"},{"$nulls":7},{"$f":"\"\" & S11 & \"\\n\" & S12 & \"\\n\" & T11 & \"\\n\" & T12","v":"\\n\\n\\n"},null,{"$f":"\"\" & U11 & \"\\n\" & U12 & \"\\n\" & V11 & \"\\n\" & V12","v":"1\\n\\n\\n"},null,{"$f":"\"\" & W11 & \"\\n\" & W12 & \"\\n\" & X11 & \"\\n\" & X12","v":"2\\n\\n\\n"},null,{"$f":"\"\" & Y11 & \"\\n\" & Y12 & \"\\n\" & Z11 & \"\\n\" & Z12","v":"3\\n\\n\\n"},null,{"$f":"\"\" & AA11 & \"\\n\" & AA12 & \"\\n\" & AB11 & \"\\n\" & AB12","v":"\\n\\n\\n"},null,{"$f":"\"\" & AC11 & \"\\n\" & AC12 & \"\\n\" & AD11 & \"\\n\" & AD12","v":"\\n\\n\\n"}]
[]
[{"$f":"\"\" & A13 & \"\\n\" & A14 & \"\\n\" & B13 & \"\\n\" & B14","v":"Calc\\n\\n\\n"},null,{"$f":"\"\" & C13 & \"\\n\" & C14 & \"\\n\" & D13 & \"\\n\" & D14","v":"\\n\\n\\n"},null,{"$f":"\"\" & E13 & \"\\n\" & E14 & \"\\n\" & F13 & \"\\n\" & F14","v":":\\n.\\n·\\n…"},null,{"$f":"\"\" & G13 & \"\\n\" & G14 & \"\\n\" & H13 & \"\\n\" & H14","v":"0\\n\\n\\n"},null,{"$f":"\"\" & I13 & \"\\n\" & I14 & \"\\n\" & J13 & \"\\n\" & J14","v":";\\n,\\n\\n’"},{"$nulls":11},{"$f":"\"\" & U13 & \"\\n\" & U14 & \"\\n\" & V13 & \"\\n\" & V14","v":";\\n,\\n\\n’"},null,{"$f":"\"\" & W13 & \"\\n\" & W14 & \"\\n\" & X13 & \"\\n\" & X14","v":"0\\n\\n\\n"},null,{"$f":"\"\" & Y13 & \"\\n\" & Y14 & \"\\n\" & Z13 & \"\\n\" & Z14","v":":\\n.\\n·\\n…"},null,{"$f":"\"\" & AA13 & \"\\n\" & AA14 & \"\\n\" & AB13 & \"\\n\" & AB14","v":"\\n\\n\\n"},null,{"$f":"\"\" & AC13 & \"\\n\" & AC14 & \"\\n\" & AD13 & \"\\n\" & AD14","v":"\\n\\n\\n"}]
[]
[]
[]
["http://www.keyboard-layout-editor.com (raffraichissement automatique)",{"$nulls":14},"Code layout (à coller dans Keymap.c) Raffraichissement manuel (Via macro) "]
[{"$f":"\"[{x:3.5},\"\"\"&G23&\"\"\",{x:10.5},\"\"\"&W23&\"\"\"],\"","v":"[{x:3.5},\"\\n\\n\\n\",{x:10.5},\"8\\n-\\n¼\\n−\"],"},{"$nulls":14},"/*Keymap 1: Numéric layer"]
[{"$f":"\"[{y:-0.875,x:2.5},\"\"\" & E23 & \"\"\",{x:1},\"\"\" & I23 & \"\"\",{x:8.5},\"\"\" & U23 & \"\"\",{x:1},\"\"\" & Y23 & \"\"\"],\"","v":"[{y:-0.875,x:2.5},\"\\n\\n\\n\",{x:1},\"\\n\\n\\n\",{x:8.5},\"7\\n+\\n¬\\n±\",{x:1},\"9\\n/\\n½\\n÷\"],"},{"$nulls":14},"*"]
[{"$f":"\"[{y:-0.875,x:5.5},\"\"\" & K23 & \"\"\",\"\"\" & M23 &\"\"\",{x:4.5},\"\"\"& Q23 & \"\"\",\"\"\" & S23 & \"\"\"],\"","v":"[{y:-0.875,x:5.5},\"\\n\\n\\n\",\"\\n\\n\\n\",{x:4.5},\"Del\\n\\n\\n\",\"\\n\\n\\n\"],"},{"$nulls":14},"* ,--------------------------------------------------.           ,--------------------------------------------------."]
[{"$f":"\"[{y:-0.875,w:1.5},\"\"\" & A23 & \"\"\",\"\"\" & C23 & \"\"\",{x:14.5},\"\"\" &AA23 &\"\"\",{w:1.5},\"\"\" & AC23 & \"\"\"],\"","v":"[{y:-0.875,w:1.5},\"\\n\\n\\n\",\"\\n\\n\\n\",{x:14.5},\"0\\n*\\n¾\\n×\",{w:1.5},\"`\\n%\\n″\\n‰\"],"},{"$nulls":14},"* |        |      |      |      |      |      |      |           | Del  |      |  +   |  -   |  /   |  *   |   %    |"]
[{"$f":"\"[{y:-0.375,x:3.5},\"\"\" & G25 & \"\"\",{x:10.5},\"\"\" & W25&\"\"\"],\"","v":"[{y:-0.375,x:3.5},\"8\\n\\n\\n\",{x:10.5},\"8\\n\\n\\n\"],"},{"$nulls":14},"* |--------+------+------+------+------+------+------|           |------+------+------+------+------+------+--------|"]
[{"$f":"\"[{y:-0.875,x:2.5},\"\"\" & E25 &\"\"\",{x:1},\"\"\" & I25 &\"\"\",{x:8.5},\"\"\" & U25 &\"\"\",{x:1},\"\"\" & Y25 &\"\"\"],\"","v":"[{y:-0.875,x:2.5},\"9\\n\\n\\n\",{x:1},\"7\\n\\n\\n\",{x:8.5},\"7\\n\\n\\n\",{x:1},\"9\\n\\n\\n\"],"},{"$nulls":14},"* |        |      |  9   |  8   |  7   |      |  +   |           |  /   |      |  7   |  8   |  9   |      |        |"]
[{"$f":"\"[{y:-0.875,x:5.5},\"\"\" & K25 & \"\"\" ,{h:1.5},\"\"\" & M25 & \"\"\",{x:4.5,h:1.5},\"\"\" & Q25 & \"\"\",\"\"\" & S25 & \"\"\"],\"","v":"[{y:-0.875,x:5.5},\"\\n\\n\\n\" ,{h:1.5},\"+\",{x:4.5,h:1.5},\"/\",\"\\n\\n\\n\"],"},{"$nulls":14},"* |--------+------+------+------+------+------|      |           |      |------+------+------+------+------+--------|"]
[{"$f":" \"[{y:-0.875,w:1.5},\"\"\" & A25 &\"\"\",\"\"\" & C25 &\"\"\",{x:14.5},\"\"\" & AA25 &\"\"\",{w:1.5},\"\"\" & AC25 &\"\"\"],\"","v":"[{y:-0.875,w:1.5},\"\\n\\n\\n\",\"\\n\\n\\n\",{x:14.5},\"\\n\\n\\n\",{w:1.5},\"\\n\\n\\n\"],"},{"$nulls":14},"* |        |      |  6   |  5   |  4   | Cut  |------|           |------| Copy |  4   |  5   |  6   |      |        |"]
[{"$f":"\"[{y:-0.375,x:3.5},\"\"\" & G27& \"\"\",{x:10.5},\"\"\" & W27& \"\"\"],\"","v":"[{y:-0.375,x:3.5},\"5\\n\\n\\n\",{x:10.5},\"5\\n\\n\\n\"],"},{"$nulls":14},"* |--------+------+------+------+------+------|      |           |      |------+------+------+------+------+--------|"]
[{"$f":"\"[{y:-0.875,x:2.5},\"\"\" &E27& \"\"\",{x:1},\"\"\" &I27& \"\"\",{x:8.5},\"\"\" &U27& \"\"\",{x:1},\"\"\" &Y27& \"\"\"],\"","v":"[{y:-0.875,x:2.5},\"6\\n\\n\\n\",{x:1},\"4\\n\\n\\n\",{x:8.5},\"4\\n\\n\\n\",{x:1},\"6\\n\\n\\n\"],"},{"$nulls":14},"* |        |      |  3   |  2   |  1   |      |  -   |           |  *   |      |  1   |  2   |  3   |      |        |"]
[{"$f":"\"[{y:-0.875,x:5.5},\"\"\" & K27 &\"\"\",{x:6.5},\"\"\" & S27 & \"\"\"],\"","v":"[{y:-0.875,x:5.5},\"Cut\\n\\n\\n\",{x:6.5},\"Copy\\n\\n\\n\"],"},{"$nulls":14},"* `--------+------+------+------+------+-------------'           `-------------+------+------+------+------+--------'"]
[{"$f":"\"[{y:-0.875,w:1.5},\"\"\" & A27 & \"\"\",\"\"\" & C27 & \"\"\",{x:14.5},\"\"\" & AA27 & \"\"\",{w:1.5},\"\"\" & AC27 & \"\"\"],\"","v":"[{y:-0.875,w:1.5},\"\\n\\n\\n\",\"\\n\\n\\n\",{x:14.5},\"\\n\\n\\n\",{w:1.5},\"\\n\\n\\n\"],"},{"$nulls":14},"*   | Calc |      |  .   |  0   |  ,   |                                       |  ,   |  0   |  .   |      |        |"]
[{"$f":"\"[{y:-0.625,x:6.5,h:1.5},\"\"\" & M27 & \"\"\",{x:4.5,h:1.5},\"\"\" & Q27 & \"\"\"],\"","v":"[{y:-0.625,x:6.5,h:1.5},\"-\",{x:4.5,h:1.5},\"*\"],"},{"$nulls":14},"*   `----------------------------------'                                       `----------------------------------'"]
[{"$f":"\"[{y:-0.75,x:3.5},\"\"\" & G29 & \"\"\",{x:10.5},\"\"\" & W29 & \"\"\"],\"","v":"[{y:-0.75,x:3.5},\"2\\n\\n\\n\",{x:10.5},\"2\\n\\n\\n\"],"},{"$nulls":14},"*                                        ,-------------.       ,-------------."]
[{"$f":"\"[{y:-0.875,x:2.5},\"\"\" & E29& \"\"\",{x:1},\"\"\" &I29 & \"\"\",{x:8.5},\"\"\" & U29& \"\"\",{x:1},\"\"\" &Y29 & \"\"\"],\"","v":"[{y:-0.875,x:2.5},\"3\\n\\n\\n\",{x:1},\"1\\n\\n\\n\",{x:8.5},\"1\\n\\n\\n\",{x:1},\"3\\n\\n\\n\"],"},{"$nulls":14},"*                                        | Fn3  | Esc  |       |Caps L| Fn3  |       "]
[{"$f":"\"[{y:-0.875,x:5.5},\"\"\" & K29& \"\"\",{x:6.5},\"\"\" &S29 & \"\"\"],\"","v":"[{y:-0.875,x:5.5},\"\\n\\n\\n\",{x:6.5},\"\\n\\n\\n\"],"},{"$nulls":14},"*                                 ,------|------|------|       |------+------+------."]
[{"$f":"\"[{y:-0.875,w:1.5},\"\"\" &A29& \"\"\",\"\"\" &C29& \"\"\",{x:14.5},\"\"\" &AA29& \"\"\",{w:1.5},\"\"\" &AC29& \"\"\"],\"","v":"[{y:-0.875,w:1.5},\"\\n\\n\\n\",\"\\n\\n\\n\",{x:14.5},\"\\n\\n\\n\",{w:1.5},\"\\n\\n\\n\"],"},{"$nulls":14},"*                                 |      |      |      |       |      |      |      |"]
[{"$f":"\"[{y:-0.375,x:3.5},\"\"\" & G31& \"\"\",{x:10.5},\"\"\" & W31& \"\"\"],\"","v":"[{y:-0.375,x:3.5},\"0\\n\\n\\n\",{x:10.5},\"0\\n\\n\\n\"],"},{"$nulls":14},"*                                 |      |      |------|       |------|      |      |"]
[{"$f":"\"[{y:-0.875,x:2.5},\"\"\" & E31& \"\"\",{x:1},\"\"\" & I31& \"\"\",{x:8.5},\"\"\" &U31 & \"\"\",{x:1},\"\"\" & Y31& \"\"\"],\"","v":"[{y:-0.875,x:2.5},\":\\n.\\n·\\n…\",{x:1},\";\\n,\\n\\n’\",{x:8.5},\";\\n,\\n\\n’\",{x:1},\":\\n.\\n·\\n…\"],"},{"$nulls":14},"*                                 |  0   |      |  1   |       |  1   |Paste |  0   |"]
[{"$f":"\"[{y:-0.75,x:0.5},\"\"\" & A31& \"\"\",\"\"\" & C31& \"\"\",{x:14.5},\"\"\" & AA31& \"\"\",\"\"\" &AC31 & \"\"\"],\"","v":"[{y:-0.75,x:0.5},\"Calc\\n\\n\\n\",\"\\n\\n\\n\",{x:14.5},\"\\n\\n\\n\",\"\\n\\n\\n\"],"},{"$nulls":14},"*                                 `--------------------'       `--------------------'"]
[{"$f":"\"[{r:30,rx:6.5,ry:4.25,y:-1,x:1},\"\"\" &K16 & \"\"\",\"\"\" &M16 & \"\"\"],\"","v":"[{r:30,rx:6.5,ry:4.25,y:-1,x:1},\"Fn3\",\"Esc\"],"},{"$nulls":14},"*/"]
[{"$f":"\"[{h:2},\"\"\" &I18& \"\"\",{h:2},\"\"\" &K18& \"\"\",\"\"\" &M18& \"\"\"],\"","v":"[{h:2},\"0\",{h:2},\"\",\"\"],"},{"$nulls":14},"[NUM] = LAYOUT_ergodox("]
[{"$f":"\"[{x:2},\"\"\" &M20&\"\"\"],\"","v":"[{x:2},\"1\"],"},{"$nulls":14},"//Left hand"]
[{"$f":"\"[{r:-30,rx:13,y:-1,x:-3},\"\"\" & Q16 & \"\"\",\"\"\" & S16 & \"\"\"],\"","v":"[{r:-30,rx:13,y:-1,x:-3},\"Caps Lock\",\"Fn3\"],"},{"$nulls":14},"        KC_TRNS        ,KC_TRNS        ,KC_TRNS        ,KC_TRNS        ,KC_TRNS        ,KC_TRNS        ,KC_TRNS        ,"]
[{"$f":"\"[{x:-3},\"\"\" &Q18& \"\"\",{h:2},\"\"\" &S18& \"\"\",{h:2},\"\"\" &U18& \"\"\"],\"","v":"[{x:-3},\"\",{h:2},\"Paste\",{h:2},\"0\"],"},{"$nulls":14},"        KC_TRNS        ,KC_TRNS        ,BP_9           ,BP_8           ,BP_7           ,KC_TRNS        ,BP_PLUS        ,"]
[{"$f":"\"[{x:-3},\"\"\"&Q20&\"\"\"]\"","v":"[{x:-3},\"1\"]"},{"$nulls":14},"        KC_TRNS        ,KC_TRNS        ,BP_6           ,BP_5           ,BP_4           ,KC_CUT         ,                "]
[{"$nulls":15},"        KC_TRNS        ,KC_TRNS        ,BP_3           ,BP_2           ,BP_1           ,KC_TRNS        ,BP_MINS        ,"]
[{"$nulls":15},"        KC_CALC        ,KC_TRNS        ,BP_DOT         ,BP_0           ,BP_COMM        ,                                "]
[{"$nulls":15},"                                                                                        KC_FN3         ,KC_ESC         ,"]
[{"$nulls":15},"                                                                                                        KC_TRNS        ,"]
[{"$nulls":15},"                                                                        BP_0           ,KC_TRNS        ,BP_1           ,"]
[{"$nulls":15},"//Right hand"]
[{"$nulls":15},"        KC_DELT        ,KC_TRNS        ,BP_PLUS        ,BP_MINS        ,BP_SLSH        ,BP_ASTR        ,BP_PERC        ,"]
[{"$nulls":15},"        BP_SLSH        ,KC_TRNS        ,BP_7           ,BP_8           ,BP_9           ,KC_TRNS        ,KC_TRNS        ,"]
[{"$nulls":15},"                        KC_COPY        ,BP_4           ,BP_5           ,BP_6           ,KC_TRNS        ,KC_TRNS        ,"]
[{"$nulls":15},"        BP_ASTR        ,KC_TRNS        ,BP_1           ,BP_2           ,BP_3           ,KC_TRNS        ,KC_TRNS        ,"]
[{"$nulls":15},"                                        BP_COMM        ,BP_0           ,BP_DOT         ,KC_TRNS        ,KC_TRNS        ,"]
[{"$nulls":15},"        KC_CAPS        ,KC_FN3         ,                                                                                "]
[{"$nulls":15},"        KC_TRNS        ,                                                                                                "]
[{"$nulls":15},"        BP_1           ,KC_PASTE       ,BP_0                                                                           "]
[{"$nulls":15},"    ),"]

{"sheet":"Layout 3","index":2,"n_rows":76,"n_cols":29,"rows_kept":76,"merged":[[0,0,2,29],[3,0,3,29],[4,0,5,1],[4,2,5,3],[4,4,5,5],[4,6,5,7],[4,8,5,9],[4,10,5,11],[4,12,5,13],[4,16,5,17],[4,18,5,19],[4,20,5,21],[4,22,5,23],[4,24,5,25],[4,26,5,27],[4,28,5,29],[6,0,7,1],[6,2,7,3],[6,4,7,5],[6,6,7,7],[6,8,7,9],[6,10,7,11],[6,12,8,13],[6,16,8,17],[6,18,7,19],[6,20,7,21],[6,22,7,23],[6,24,7,25],[6,26,7,27],[6,28,7,29],[8,0,9,1],[8,2,9,3],[8,4,9,5],[8,6,9,7],[8,8,9,9],[8,10,9,11],[8,18,9,19],[8,20,9,21],[8,22,9,23],[8,24,9,25],[8,26,9,27],[8,28,9,29],[9,12,11,13],[9,16,11,17],[10,0,11,1],[10,2,11,3],[10,4,11,5],[10,6,11,7],[10,8,11,9],[10,10,11,11],[10,14,11,15],[10,18,11,19],[10,20,11,21],[10,22,11,23],[10,24,11,25],[10,26,11,27],[10,28,11,29],[12,0,13,1],[12,2,13,3],[12,4,13,5],[12,6,13,7],[12,8,13,9],[12,20,13,21],[12,22,13,23],[12,24,13,25],[12,26,13,27],[12,28,13,29],[15,10,16,11],[15,12,16,13],[15,16,16,17],[15,18,16,19],[17,8,20,9],[17,10,20,11],[17,12,18,13],[17,16,18,17],[17,18,20,19],[17,20,20,21],[19,12,20,13],[19,16,20,17],[22,0,23,1],[22,2,23,3],[22,4,23,5],[22,6,23,7],[22,8,23,9],[22,10,23,11],[22,12,23,13],[22,16,23,17],[22,18,23,19],[22,20,23,21],[22,22,23,23],[22,24,23,25],[22,26,23,27],[22,28,23,29],[24,0,25,1],[24,2,25,3],[24,4,25,5],[24,6,25,7],[24,8,25,9],[24,10,25,11],[24,12,25,13],[24,16,25,17],[24,18,25,19],[24,20,25,21],[24,22,25,23],[24,24,25,25],[24,26,25,27],[24,28,25,29],[26,0,27,1],[26,2,27,3],[26,4,27,5],[26,6,27,7],[26,8,27,9],[26,10,27,11],[26,12,27,13],[26,16,27,17],[26,18,27,19],[26,20,27,21],[26,22,27,23],[26,24,27,25],[26,26,27,27],[26,28,27,29],[28,0,29,1],[28,2,29,3],[28,4,29,5],[28,6,29,7],[28,8,29,9],[28,10,29,11],[28,12,29,13],[28,16,29,17],[28,18,29,19],[28,20,29,21],[28,22,29,23],[28,24,29,25],[28,26,29,27],[28,28,29,29],[30,0,31,1],[30,2,31,3],[30,4,31,5],[30,6,31,7],[30,8,31,9],[30,10,31,11],[30,12,31,13],[30,16,31,17],[30,18,31,19],[30,20,31,21],[30,22,31,23],[30,24,31,25],[30,26,31,27],[30,28,31,29],[34,0,34,13],[34,15,34,35],[35,15,35,35],[36,15,36,35],[37,15,37,35],[38,15,38,35],[39,15,39,35],[40,15,40,35],[41,15,41,35],[42,15,42,35],[43,15,43,35],[44,15,44,35],[45,15,45,35],[46,15,46,35],[47,15,47,35],[48,15,48,35],[49,15,49,35],[50,15,50,35],[51,15,51,35],[52,15,52,35],[53,15,53,35],[54,15,54,35],[55,15,55,35],[56,15,56,35],[57,15,57,35],[58,15,58,35],[59,15,59,35],[60,15,60,35],[61,15,61,35],[62,15,62,35],[63,15,63,35],[64,15,64,35],[65,15,65,35],[66,15,66,35],[67,15,67,35],[68,15,68,35],[69,15,69,35],[70,15,70,35],[71,15,71,35],[72,15,72,35],[73,15,73,35],[74,15,74,35],[75,15,75,35]]}
["ARW"]
[]
[]
["Keymap 2: Arrowlayer - F1-F12"]
[null,null,"F1",null,"F2",null,"F3",null,"F4",null,"F5",null,"F6",{"$nulls":3},"F7",null,"F8",null,"F9",null,"F10",null,"F11",null,"F12"]
[]
[{"$nulls":4},"Debut",null,"Up",null,"Fin",{"$nulls":3},"Inser",{"$nulls":3},"Page Suiv",{"$nulls":3},"Debut",null,"Up",null,"Fin"]
[]
[{"$nulls":4},"Left",null,"Down",null,"Right",{"$nulls":11},"Left",null,"Down",null,"Right"]
[{"$nulls":12},"Inser",{"$nulls":3},"Page Prec"]
[{"$nulls":4},"Page Prec",{"$nulls":3},"Page Suiv",{"$nulls":11},"Page Prec",{"$nulls":3},"Page Suiv"]
[]
["CtrlG",null,"Alt",null,"GUIL",null,"Alt Gr",null,"ShiftG",{"$nulls":13},"Alt Gr",null,"GUID",null,"Alt",null,"CtrlD"]
[]
[]
[{"$nulls":10},"Fn3",null,"Esc",{"$nulls":5},"Fn3"]
[]
[{"$nulls":8},"DeroulG",null,"Fn1",{"$nulls":7},"ShiftD",null,"DeroulD"]
[]
[{"$nulls":16},"Fn1"]
[]
[]
[{"$f":"\"\" & A5 & \"\\n\" & A6 & \"\\n\" & B5 & \"\\n\" & B6","v":"\\n\\n\\n"},null,{"$f":"\"\" & C5 & \"\\n\" & C6 & \"\\n\" & D5 & \"\\n\" & D6","v":"F1\\n\\n\\n"},null,"F2\\n\\n\\n",null,"F3\\n\\n\\n",null,"F4\\n\\n\\n",null,"F5\\n\\n\\n",null,"F6\\n\\n\\n",{"$nulls":3},"F7\\n\\n\\n",null,"F8\\n\\n\\n",null,"F9\\n\\n\\n",null,"F10\\n\\n\\n",null,"F11\\n\\n\\n",null,"F12\\n\\n\\n",null,"\\n\\n\\n"]
[]
[{"$f":"\"\" & A7 & \"\\n\" & A8 & \"\\n\" & B7 & \"\\n\" & B8","v":"\\n\\n\\n"},null,{"$f":"\"\" & C7 & \"\\n\" & C8 & \"\\n\" & D7 & \"\\n\" & D8","v":"\\n\\n\\n"},null,{"$f":"\"\" & E7 & \"\\n\" & E8 & \"\\n\" & F7 & \"\\n\" & F8","v":"Debut\\n\\n\\n"},null,{"$f":"\"\" & G7 & \"\\n\" & G8 & \"\\n\" & H7 & \"\\n\" & H8","v":"Up\\n\\n\\n"},null,{"$f":"\"\" & I7 & \"\\n\" & I8 & \"\\n\" & J7 & \"\\n\" & J8","v":"Fin\\n\\n\\n"},null,{"$f":"\"\" & K7 & \"\\n\" & K8 & \"\\n\" & L7 & \"\\n\" & L8","v":"\\n\\n\\n"},null,{"$f":"M7","v":"Inser"},{"$nulls":3},{"$f":"Q7","v":"Page Suiv"},null,{"$f":"\"\" & S7 & \"\\n\" & S8 & \"\\n\" & T7 & \"\\n\" & T8","v":"\\n\\n\\n"},null,{"$f":"\"\" & U7 & \"\\n\" & U8 & \"\\n\" & V7 & \"\\n\" & V8","v":"Debut\\n\\n\\n"},null,{"$f":"\"\" & W7 & \"\\n\" & W8 & \"\\n\" & X7 & \"\\n\" & X8","v":"Up\\n\\n\\n"},null,{"$f":"\"\" & Y7 & \"\\n\" & Y8 & \"\\n\" & Z7 & \"\\n\" & Z8","v":"Fin\\n\\n\\n"},null,{"$f":"\"\" & AA7 & \"\\n\" & AA8 & \"\\n\" & AB7 & \"\\n\" & AB8","v":"\\n\\n\\n"},null,{"$f":"\"\" & AC7 & \"\\n\" & AC8 & \"\\n\" & AD7 & \"\\n\" & AD8","v":"\\n\\n\\n"}]
[]
[{"$f":"\"\" & A9 & \"\\n\" & A10 & \"\\n\" & B9 & \"\\n\" & B10","v":"\\n\\n\\n"},null,{"$f":"\"\" & C9 & \"\\n\" & C10 & \"\\n\" & D9 & \"\\n\" & D10","v":"\\n\\n\\n"},null,{"$f":"\"\" & E9 & \"\\n\" & E10 & \"\\n\" & F9 & \"\\n\" & F10","v":"Left\\n\\n\\n"},null,{"$f":"\"\" & G9 & \"\\n\" & G10 & \"\\n\" & H9 & \"\\n\" & H10","v":"Down\\n\\n\\n"},null,{"$f":"\"\" & I9 & \"\\n\" & I10 & \"\\n\" & J9 & \"\\n\" & J10","v":"Right\\n\\n\\n"},null,{"$f":"\"\" & K9 & \"\\n\" & K10 & \"\\n\" & L9 & \"\\n\" & L10","v":"\\n\\n\\n"},null,{"$f":"M10","v":"Inser"},{"$nulls":3},{"$f":"Q10","v":"Page Prec"},null,{"$f":"\"\" & S9 & \"\\n\" & S10 & \"\\n\" & T9 & \"\\n\" & T10","v":"\\n\\n\\n"},null,{"$f":"\"\" & U9 & \"\\n\" & U10 & \"\\n\" & V9 & \"\\n\" & V10","v":"Left\\n\\n\\n"},null,{"$f":"\"\" & W9 & \"\\n\" & W10 & \"\\n\" & X9 & \"\\n\" & X10","v":"Down\\n\\n\\n"},null,{"$f":"\"\" & Y9 & \"\\n\" & Y10 & \"\\n\" & Z9 & \"\\n\" & Z10","v":"Right\\n\\n\\n"},null,{"$f":"\"\" & AA9 & \"\\n\" & AA10 & \"\\n\" & AB9 & \"\\n\" & AB10","v":"\\n\\n\\n"},null,{"$f":"\"\" & AC9 & \"\\n\" & AC10 & \"\\n\" & AD9 & \"\\n\" & AD10","v":"\\n\\n\\n"}]
[]
[{"$f":"\"\" & A11 & \"\\n\" & A12 & \"\\n\" & B11 & \"\\n\" & B12","v":"\\n\\n\\n"},null,{"$f":"\"\" & C11 & \"\\n\" & C12 & \"\\n\" & D11 & \"\\n\" & D12","v":"\\n\\n\\n"},null,{"$f":"\"\" & E11 & \"\\n\" & E12 & \"\\n\" & F11 & \"\\n\" & F12","v":"Page Prec\\n\\n\\n"},null,{"$f":"\"\" & G11 & \"\\n\" & G12 & \"\\n\" & H11 & \"\\n\" & H12","v":"\\n\\n\\n"},null,{"$f":"\"\" & I11 & \"\\n\" & I12 & \"\\n\" & J11 & \"\\n\" & J12","v":"Page Suiv\\n\\n\\n"},null,{"$f":"\"\" & K11 & \"\\n\" & K12 & \"\\n\" & L11 & \"\\n\" & L12","v":"\\n\\n\\n"},{"$nulls":7},{"$f":"\"\" & S11 & \"\\n\" & S12 & \"\\n\" & T11 & \"\\n\" & T12","v":"\\n\\n\\n"},null,{"$f":"\"\" & U11 & \"\\n\" & U12 & \"\\n\" & V11 & \"\\n\" & V12","v":"Page Prec\\n\\n\\n"},null,{"$f":"\"\" & W11 & \"\\n\" & W12 & \"\\n\" & X11 & \"\\n\" & X12","v":"\\n\\n\\n"},null,{"$f":"\"\" & Y11 & \"\\n\" & Y12 & \"\\n\" & Z11 & \"\\n\" & Z12","v":"Page Suiv\\n\\n\\n"},null,{"$f":"\"\" & AA11 & \"\\n\" & AA12 & \"\\n\" & AB11 & \"\\n\" & AB12","v":"\\n\\n\\n"},null,{"$f":"\"\" & AC11 & \"\\n\" & AC12 & \"\\n\" & AD11 & \"\\n\" & AD12","v":"\\n\\n\\n"}]
[]
[{"$f":"\"\" & A13 & \"\\n\" & A14 & \"\\n\" & B13 & \"\\n\" & B14","v":"CtrlG\\n\\n\\n"},null,{"$f":"\"\" & C13 & \"\\n\" & C14 & \"\\n\" & D13 & \"\\n\" & D14","v":"Alt\\n\\n\\n"},null,{"$f":"\"\" & E13 & \"\\n\" & E14 & \"\\n\" & F13 & \"\\n\" & F14","v":"GUIL\\n\\n\\n"},null,{"$f":"\"\" & G13 & \"\\n\" & G14 & \"\\n\" & H13 & \"\\n\" & H14","v":"Alt Gr\\n\\n\\n"},null,{"$f":"\"\" & I13 & \"\\n\" & I14 & \"\\n\" & J13 & \"\\n\" & J14","v":"ShiftG\\n\\n\\n"},{"$nulls":11},{"$f":"\"\" & U13 & \"\\n\" & U14 & \"\\n\" & V13 & \"\\n\" & V14","v":"\\n\\n\\n"},null,{"$f":"\"\" & W13 & \"\\n\" & W14 & \"\\n\" & X13 & \"\\n\" & X14","v":"Alt Gr\\n\\n\\n"},null,{"$f":"\"\" & Y13 & \"\\n\" & Y14 & \"\\n\" & Z13 & \"\\n\" & Z14","v":"GUID\\n\\n\\n"},null,{"$f":"\"\" & AA13 & \"\\n\" & AA14 & \"\\n\" & AB13 & \"\\n\" & AB14","v":"Alt\\n\\n\\n"},null,{"$f":"\"\" & AC13 & \"\\n\" & AC14 & \"\\n\" & AD13 & \"\\n\" & AD14","v":"CtrlD\\n\\n\\n"}]
[]
[]
[]
["http://www.keyboard-layout-editor.com (raffraichissement automatique)",{"$nulls":14},"Code layout (à coller dans Keymap.c) Raffraichissement manuel (Via macro) "]
[{"$f":"\"[{x:3.5},\"\"\"&G23&\"\"\",{x:10.5},\"\"\"&W23&\"\"\"],\"","v":"[{x:3.5},\"F3\\n\\n\\n\",{x:10.5},\"F10\\n\\n\\n\"],"},{"$nulls":14},"/*Keymap 2: Arrowlayer - F1-F12"]
[{"$f":"\"[{y:-0.875,x:2.5},\"\"\" & E23 & \"\"\",{x:1},\"\"\" & I23 & \"\"\",{x:8.5},\"\"\" & U23 & \"\"\",{x:1},\"\"\" & Y23 & \"\"\"],\"","v":"[{y:-0.875,x:2.5},\"F2\\n\\n\\n\",{x:1},\"F4\\n\\n\\n\",{x:8.5},\"F9\\n\\n\\n\",{x:1},\"F11\\n\\n\\n\"],"},{"$nulls":14},"*"]
[{"$f":"\"[{y:-0.875,x:5.5},\"\"\" & K23 & \"\"\",\"\"\" & M23 &\"\"\",{x:4.5},\"\"\"& Q23 & \"\"\",\"\"\" & S23 & \"\"\"],\"","v":"[{y:-0.875,x:5.5},\"F5\\n\\n\\n\",\"F6\\n\\n\\n\",{x:4.5},\"F7\\n\\n\\n\",\"F8\\n\\n\\n\"],"},{"$nulls":14},"* ,--------------------------------------------------.           ,--------------------------------------------------."]
[{"$f":"\"[{y:-0.875,w:1.5},\"\"\" & A23 & \"\"\",\"\"\" & C23 & \"\"\",{x:14.5},\"\"\" &AA23 &\"\"\",{w:1.5},\"\"\" & AC23 & \"\"\"],\"","v":"[{y:-0.875,w:1.5},\"\\n\\n\\n\",\"F1\\n\\n\\n\",{x:14.5},\"F12\\n\\n\\n\",{w:1.5},\"\\n\\n\\n\"],"},{"$nulls":14},"* |        |  F1  |  F2  |  F3  |  F4  |  F5  |  F6  |           |  F7  |  F8  |  F9  | F10  | F11  | F12  |        |"]
[{"$f":"\"[{y:-0.375,x:3.5},\"\"\" & G25 & \"\"\",{x:10.5},\"\"\" & W25&\"\"\"],\"","v":"[{y:-0.375,x:3.5},\"Up\\n\\n\\n\",{x:10.5},\"Up\\n\\n\\n\"],"},{"$nulls":14},"* |--------+------+------+------+------+------+------|           |------+------+------+------+------+------+--------|"]
[{"$f":"\"[{y:-0.875,x:2.5},\"\"\" & E25 &\"\"\",{x:1},\"\"\" & I25 &\"\"\",{x:8.5},\"\"\" & U25 &\"\"\",{x:1},\"\"\" & Y25 &\"\"\"],\"","v":"[{y:-0.875,x:2.5},\"Debut\\n\\n\\n\",{x:1},\"Fin\\n\\n\\n\",{x:8.5},\"Debut\\n\\n\\n\",{x:1},\"Fin\\n\\n\\n\"],"},{"$nulls":14},"* |        |      |Debut |  Up  | Fin  |      |Inser |           |Page S|      |Debut |  Up  | Fin  |      |        |"]
[{"$f":"\"[{y:-0.875,x:5.5},\"\"\" & K25 & \"\"\" ,{h:1.5},\"\"\" & M25 & \"\"\",{x:4.5,h:1.5},\"\"\" & Q25 & \"\"\",\"\"\" & S25 & \"\"\"],\"","v":"[{y:-0.875,x:5.5},\"\\n\\n\\n\" ,{h:1.5},\"Inser\",{x:4.5,h:1.5},\"Page Suiv\",\"\\n\\n\\n\"],"},{"$nulls":14},"* |--------+------+------+------+------+------|      |           |      |------+------+------+------+------+--------|"]
[{"$f":" \"[{y:-0.875,w:1.5},\"\"\" & A25 &\"\"\",\"\"\" & C25 &\"\"\",{x:14.5},\"\"\" & AA25 &\"\"\",{w:1.5},\"\"\" & AC25 &\"\"\"],\"","v":"[{y:-0.875,w:1.5},\"\\n\\n\\n\",\"\\n\\n\\n\",{x:14.5},\"\\n\\n\\n\",{w:1.5},\"\\n\\n\\n\"],"},{"$nulls":14},"* |        |      | Left | Down |Right |      |------|           |------|      | Left | Down |Right |      |        |"]
[{"$f":"\"[{y:-0.375,x:3.5},\"\"\" & G27& \"\"\",{x:10.5},\"\"\" & W27& \"\"\"],\"","v":"[{y:-0.375,x:3.5},\"Down\\n\\n\\n\",{x:10.5},\"Down\\n\\n\\n\"],"},{"$nulls":14},"* |--------+------+------+------+------+------|      |           |      |------+------+------+------+------+--------|"]
[{"$f":"\"[{y:-0.875,x:2.5},\"\"\" &E27& \"\"\",{x:1},\"\"\" &I27& \"\"\",{x:8.5},\"\"\" &U27& \"\"\",{x:1},\"\"\" &Y27& \"\"\"],\"","v":"[{y:-0.875,x:2.5},\"Left\\n\\n\\n\",{x:1},\"Right\\n\\n\\n\",{x:8.5},\"Left\\n\\n\\n\",{x:1},\"Right\\n\\n\\n\"],"},{"$nulls":14},"* |        |      |Page P|      |Page S|      |Inser |           |Page P|      |Page P|      |Page S|      |        |"]
[{"$f":"\"[{y:-0.875,x:5.5},\"\"\" & K27 &\"\"\",{x:6.5},\"\"\" & S27 & \"\"\"],\"","v":"[{y:-0.875,x:5.5},\"\\n\\n\\n\",{x:6.5},\"\\n\\n\\n\"],"},{"$nulls":14},"* `--------+------+------+------+------+-------------'           `-------------+------+------+------+------+--------'"]
[{"$f":"\"[{y:-0.875,w:1.5},\"\"\" & A27 & \"\"\",\"\"\" & C27 & \"\"\",{x:14.5},\"\"\" & AA27 & \"\"\",{w:1.5},\"\"\" & AC27 & \"\"\"],\"","v":"[{y:-0.875,w:1.5},\"\\n\\n\\n\",\"\\n\\n\\n\",{x:14.5},\"\\n\\n\\n\",{w:1.5},\"\\n\\n\\n\"],"},{"$nulls":14},"*   |CtrlG | Alt  | GUIL |Alt Gr|ShiftG|                                       |      |Alt Gr| GUID | Alt  |CtrlD   |"]
[{"$f":"\"[{y:-0.625,x:6.5,h:1.5},\"\"\" & M27 & \"\"\",{x:4.5,h:1.5},\"\"\" & Q27 & \"\"\"],\"","v":"[{y:-0.625,x:6.5,h:1.5},\"Inser\",{x:4.5,h:1.5},\"Page Prec\"],"},{"$nulls":14},"*   `----------------------------------'                                       `----------------------------------'"]
[{"$f":"\"[{y:-0.75,x:3.5},\"\"\" & G29 & \"\"\",{x:10.5},\"\"\" & W29 & \"\"\"],\"","v":"[{y:-0.75,x:3.5},\"\\n\\n\\n\",{x:10.5},\"\\n\\n\\n\"],"},{"$nulls":14},"*                                        ,-------------.       ,-------------."]
[{"$f":"\"[{y:-0.875,x:2.5},\"\"\" & E29& \"\"\",{x:1},\"\"\" &I29 & \"\"\",{x:8.5},\"\"\" & U29& \"\"\",{x:1},\"\"\" &Y29 & \"\"\"],\"","v":"[{y:-0.875,x:2.5},\"Page Prec\\n\\n\\n\",{x:1},\"Page Suiv\\n\\n\\n\",{x:8.5},\"Page Prec\\n\\n\\n\",{x:1},\"Page Suiv\\n\\n\\n\"],"},{"$nulls":14},"*                                        | Fn3  | Esc  |       |      | Fn3  |       "]
[{"$f":"\"[{y:-0.875,x:5.5},\"\"\" & K29& \"\"\",{x:6.5},\"\"\" &S29 & \"\"\"],\"","v":"[{y:-0.875,x:5.5},\"\\n\\n\\n\",{x:6.5},\"\\n\\n\\n\"],"},{"$nulls":14},"*                                 ,------|------|------|       |------+------+------."]
[{"$f":"\"[{y:-0.875,w:1.5},\"\"\" &A29& \"\"\",\"\"\" &C29& \"\"\",{x:14.5},\"\"\" &AA29& \"\"\",{w:1.5},\"\"\" &AC29& \"\"\"],\"","v":"[{y:-0.875,w:1.5},\"\\n\\n\\n\",\"\\n\\n\\n\",{x:14.5},\"\\n\\n\\n\",{w:1.5},\"\\n\\n\\n\"],"},{"$nulls":14},"*                                 |      |      |      |       |      |      |      |"]
[{"$f":"\"[{y:-0.375,x:3.5},\"\"\" & G31& \"\"\",{x:10.5},\"\"\" & W31& \"\"\"],\"","v":"[{y:-0.375,x:3.5},\"Alt Gr\\n\\n\\n\",{x:10.5},\"Alt Gr\\n\\n\\n\"],"},{"$nulls":14},"*                                 |      |      |------|       |------|      |      |"]
[{"$f":"\"[{y:-0.875,x:2.5},\"\"\" & E31& \"\"\",{x:1},\"\"\" & I31& \"\"\",{x:8.5},\"\"\" &U31 & \"\"\",{x:1},\"\"\" & Y31& \"\"\"],\"","v":"[{y:-0.875,x:2.5},\"GUIL\\n\\n\\n\",{x:1},\"ShiftG\\n\\n\\n\",{x:8.5},\"\\n\\n\\n\",{x:1},\"GUID\\n\\n\\n\"],"},{"$nulls":14},"*                                 |Deroul| Fn1  |      |       | Fn1  |ShiftD|Deroul|"]
[{"$f":"\"[{y:-0.75,x:0.5},\"\"\" & A31& \"\"\",\"\"\" & C31& \"\"\",{x:14.5},\"\"\" & AA31& \"\"\",\"\"\" &AC31 & \"\"\"],\"","v":"[{y:-0.75,x:0.5},\"CtrlG\\n\\n\\n\",\"Alt\\n\\n\\n\",{x:14.5},\"Alt\\n\\n\\n\",\"CtrlD\\n\\n\\n\"],"},{"$nulls":14},"*                                 `--------------------'       `--------------------'"]
[{"$f":"\"[{r:30,rx:6.5,ry:4.25,y:-1,x:1},\"\"\" &K16 & \"\"\",\"\"\" &M16 & \"\"\"],\"","v":"[{r:30,rx:6.5,ry:4.25,y:-1,x:1},\"Fn3\",\"Esc\"],"},{"$nulls":14},"*/"]
[{"$f":"\"[{h:2},\"\"\" &I18& \"\"\",{h:2},\"\"\" &K18& \"\"\",\"\"\" &M18& \"\"\"],\"","v":"[{h:2},\"DeroulG\",{h:2},\"Fn1\",\"\"],"},{"$nulls":14},"[ARW] = LAYOUT_ergodox("]
[{"$f":"\"[{x:2},\"\"\" &M20&\"\"\"],\"","v":"[{x:2},\"\"],"},{"$nulls":14},"//Left hand"]
[{"$f":"\"[{r:-30,rx:13,y:-1,x:-3},\"\"\" & Q16 & \"\"\",\"\"\" & S16 & \"\"\"],\"","v":"[{r:-30,rx:13,y:-1,x:-3},\"\",\"Fn3\"],"},{"$nulls":14},"        KC_TRNS        ,KC_F1          ,KC_F2          ,KC_F3          ,KC_F4          ,KC_F5          ,KC_F6          ,"]
[{"$f":"\"[{x:-3},\"\"\" &Q18& \"\"\",{h:2},\"\"\" &S18& \"\"\",{h:2},\"\"\" &U18& \"\"\"],\"","v":"[{x:-3},\"\",{h:2},\"ShiftD\",{h:2},\"DeroulD\"],"},{"$nulls":14},"        KC_TRNS        ,KC_TRNS        ,KC_HOME        ,KC_UP          ,KC_END         ,KC_TRNS        ,KC_INS         ,"]
[{"$f":"\"[{x:-3},\"\"\"&Q20&\"\"\"]\"","v":"[{x:-3},\"Fn1\"]"},{"$nulls":14},"        KC_TRNS        ,KC_TRNS        ,KC_LEFT        ,KC_DOWN        ,KC_RGHT        ,KC_TRNS        ,                "]
[{"$nulls":15},"        KC_TRNS        ,KC_TRNS        ,KC_PGUP        ,KC_TRNS        ,KC_PGDN        ,KC_TRNS        ,KC_INS         ,"]
[{"$nulls":15},"        KC_LCTL        ,KC_LALT        ,KC_LGUI        ,BP_ALGR        ,KC_LSFT        ,                                "]
[{"$nulls":15},"                                                                                        KC_FN3         ,KC_ESC         ,"]
[{"$nulls":15},"                                                                                                        KC_TRNS        ,"]
[{"$nulls":15},"                                                                        KC_WH_L        ,KC_FN1         ,KC_TRNS        ,"]
[{"$nulls":15},"//Right hand"]
[{"$nulls":15},"        KC_F7          ,KC_F8          ,KC_F9          ,KC_F10         ,KC_F11         ,KC_F12         ,KC_TRNS        ,"]
[{"$nulls":15},"        KC_PGDN        ,KC_TRNS        ,KC_HOME        ,KC_UP          ,KC_END         ,KC_TRNS        ,KC_TRNS        ,"]
[{"$nulls":15},"                        KC_TRNS        ,KC_LEFT        ,KC_DOWN        ,KC_RGHT        ,KC_TRNS        ,KC_TRNS        ,"]
[{"$nulls":15},"        KC_PGUP        ,KC_TRNS        ,KC_PGUP        ,KC_TRNS        ,KC_PGDN        ,KC_TRNS        ,KC_TRNS        ,"]
[{"$nulls":15},"                                        KC_TRNS        ,BP_ALGR        ,KC_RGUI        ,KC_LALT        ,KC_RCTL        ,"]
[{"$nulls":15},"        KC_TRNS        ,KC_FN3         ,                                                                                "]
[{"$nulls":15},"        KC_TRNS        ,                                                                                                "]
[{"$nulls":15},"        KC_FN1         ,KC_RSFT        ,KC_WH_R                                                                        "]
[{"$nulls":15},"    ),"]

{"sheet":"Layout 4","index":3,"n_rows":76,"n_cols":29,"rows_kept":76,"merged":[[0,0,2,29],[3,0,3,29],[4,0,5,1],[4,2,5,3],[4,4,5,5],[4,6,5,7],[4,8,5,9],[4,10,5,11],[4,12,5,13],[4,16,5,17],[4,18,5,19],[4,20,5,21],[4,22,5,23],[4,24,5,25],[4,26,5,27],[4,28,5,29],[6,0,7,1],[6,2,7,3],[6,4,7,5],[6,6,7,7],[6,8,7,9],[6,10,7,11],[6,12,8,13],[6,16,8,17],[6,18,7,19],[6,20,7,21],[6,22,7,23],[6,24,7,25],[6,26,7,27],[6,28,7,29],[8,0,9,1],[8,2,9,3],[8,4,9,5],[8,6,9,7],[8,8,9,9],[8,10,9,11],[8,18,9,19],[8,20,9,21],[8,22,9,23],[8,24,9,25],[8,26,9,27],[8,28,9,29],[9,12,11,13],[9,16,11,17],[10,0,11,1],[10,2,11,3],[10,4,11,5],[10,6,11,7],[10,8,11,9],[10,10,11,11],[10,14,11,15],[10,18,11,19],[10,20,11,21],[10,22,11,23],[10,24,11,25],[10,26,11,27],[10,28,11,29],[12,0,13,1],[12,2,13,3],[12,4,13,5],[12,6,13,7],[12,8,13,9],[12,20,13,21],[12,22,13,23],[12,24,13,25],[12,26,13,27],[12,28,13,29],[15,10,16,11],[15,12,16,13],[15,16,16,17],[15,18,16,19],[17,8,20,9],[17,10,20,11],[17,12,18,13],[17,16,18,17],[17,18,20,19],[17,20,20,21],[19,12,20,13],[19,16,20,17],[22,0,23,1],[22,2,23,3],[22,4,23,5],[22,6,23,7],[22,8,23,9],[22,10,23,11],[22,12,23,13],[22,16,23,17],[22,18,23,19],[22,20,23,21],[22,22,23,23],[22,24,23,25],[22,26,23,27],[22,28,23,29],[24,0,25,1],[24,2,25,3],[24,4,25,5],[24,6,25,7],[24,8,25,9],[24,10,25,11],[24,12,25,13],[24,16,25,17],[24,18,25,19],[24,20,25,21],[24,22,25,23],[24,24,25,25],[24,26,25,27],[24,28,25,29],[26,0,27,1],[26,2,27,3],[26,4,27,5],[26,6,27,7],[26,8,27,9],[26,10,27,11],[26,12,27,13],[26,16,27,17],[26,18,27,19],[26,20,27,21],[26,22,27,23],[26,24,27,25],[26,26,27,27],[26,28,27,29],[28,0,29,1],[28,2,29,3],[28,4,29,5],[28,6,29,7],[28,8,29,9],[28,10,29,11],[28,12,29,13],[28,16,29,17],[28,18,29,19],[28,20,29,21],[28,22,29,23],[28,24,29,25],[28,26,29,27],[28,28,29,29],[30,0,31,1],[30,2,31,3],[30,4,31,5],[30,6,31,7],[30,8,31,9],[30,10,31,11],[30,12,31,13],[30,16,31,17],[30,18,31,19],[30,20,31,21],[30,22,31,23],[30,24,31,25],[30,26,31,27],[30,28,31,29],[34,0,34,13],[34,15,34,35],[35,15,35,35],[36,15,36,35],[37,15,37,35],[38,15,38,35],[39,15,39,35],[40,15,40,35],[41,15,41,35],[42,15,42,35],[43,15,43,35],[44,15,44,35],[45,15,45,35],[46,15,46,35],[47,15,47,35],[48,15,48,35],[49,15,49,35],[50,15,50,35],[51,15,51,35],[52,15,52,35],[53,15,53,35],[54,15,54,35],[55,15,55,35],[56,15,56,35],[57,15,57,35],[58,15,58,35],[59,15,59,35],[60,15,60,35],[61,15,61,35],[62,15,62,35],[63,15,63,35],[64,15,64,35],[65,15,65,35],[66,15,66,35],[67,15,67,35],[68,15,68,35],[69,15,69,35],[70,15,70,35],[71,15,71,35],[72,15,72,35],[73,15,73,35],[74,15,74,35],[75,15,75,35]]}
["MDIA"]
[]
[]
["Keymap 3: Multimedia -Mouse"]
[{"$nulls":12},"Titre -",{"$nulls":3},"Titre +"]
[]
[{"$nulls":6},"MsUp",{"$nulls":3},"DeroulH",null,"Volume +",{"$nulls":3},"Stop"]
[]
["Souris Acc 2",{"$nulls":3},"MsLeft",null,"MsDown",null,"MsRght",null,"DeroulB",{"$nulls":9},"Lclk",null,"Rclk"]
[{"$nulls":12},"Volume -",{"$nulls":3},"Lect/Pause"]
["Souris Acc 1",{"$nulls":3},"DeroulG",{"$nulls":3},"DeroulD"]
[]
["Souris Acc 0",null,"Alt",null,"GUIL",null,"Alt Gr",null,"ShiftG",{"$nulls":11},"Fn2",null,"Fin",null,"GUID",null,"Alt",null,"CtrlD"]
[]
[]
[]
[]
[{"$nulls":8},"Mute",null,"Mute",{"$nulls":7},"Mute",null,"Mute"]
[]
[{"$nulls":12},"Fn2",{"$nulls":3},"Fn1"]
[]
[]
[{"$f":"\"\" & A5 & \"\\n\" & A6 & \"\\n\" & B5 & \"\\n\" & B6","v":"\\n\\n\\n"},null,{"$f":"\"\" & C5 & \"\\n\" & C6 & \"\\n\" & D5 & \"\\n\" & D6","v":"\\n\\n\\n"},null,"\\n\\n\\n",null,"\\n\\n\\n",null,"\\n\\n\\n",null,"\\n\\n\\n",null,"Titre -\\n\\n\\n",{"$nulls":3},"Titre +\\n\\n\\n",null,"\\n\\n\\n",null,"\\n\\n\\n",null,"\\n\\n\\n",null,"\\n\\n\\n",null,"\\n\\n\\n",null,"\\n\\n\\n"]
[]
[{"$f":"\"\" & A7 & \"\\n\" & A8 & \"\\n\" & B7 & \"\\n\" & B8","v":"\\n\\n\\n"},null,{"$f":"\"\" & C7 & \"\\n\" & C8 & \"\\n\" & D7 & \"\\n\" & D8","v":"\\n\\n\\n"},null,{"$f":"\"\" & E7 & \"\\n\" & E8 & \"\\n\" & F7 & \"\\n\" & F8","v":"\\n\\n\\n"},null,{"$f":"\"\" & G7 & \"\\n\" & G8 & \"\\n\" & H7 & \"\\n\" & H8","v":"MsUp\\n\\n\\n"},null,{"$f":"\"\" & I7 & \"\\n\" & I8 & \"\\n\" & J7 & \"\\n\" & J8","v":"\\n\\n\\n"},null,{"$f":"\"\" & K7 & \"\\n\" & K8 & \"\\n\" & L7 & \"\\n\" & L8","v":"DeroulH\\n\\n\\n"},null,{"$f":"M7","v":"Volume +"},{"$nulls":3},{"$f":"Q7","v":"Stop"},null,{"$f":"\"\" & S7 & \"\\n\" & S8 & \"\\n\" & T7 & \"\\n\" & T8","v":"\\n\\n\\n"},null,{"$f":"\"\" & U7 & \"\\n\" & U8 & \"\\n\" & V7 & \"\\n\" & V8","v":"\\n\\n\\n"},null,{"$f":"\"\" & W7 & \"\\n\" & W8 & \"\\n\" & X7 & \"\\n\" & X8","v":"\\n\\n\\n"},null,{"$f":"\"\" & Y7 & \"\\n\" & Y8 & \"\\n\" & Z7 & \"\\n\" & Z8","v":"\\n\\n\\n"},null,{"$f":"\"\" & AA7 & \"\\n\" & AA8 & \"\\n\" & AB7 & \"\\n\" & AB8","v":"\\n\\n\\n"},null,{"$f":"\"\" & AC7 & \"\\n\" & AC8 & \"\\n\" & AD7 & \"\\n\" & AD8","v":"\\n\\n\\n"}]
[]
[{"$f":"\"\" & A9 & \"\\n\" & A10 & \"\\n\" & B9 & \"\\n\" & B10","v":"Souris Acc 2\\n\\n\\n"},null,{"$f":"\"\" & C9 & \"\\n\" & C10 & \"\\n\" & D9 & \"\\n\" & D10","v":"\\n\\n\\n"},null,{"$f":"\"\" & E9 & \"\\n\" & E10 & \"\\n\" & F9 & \"\\n\" & F10","v":"MsLeft\\n\\n\\n"},null,{"$f":"\"\" & G9 & \"\\n\" & G10 & \"\\n\" & H9 & \"\\n\" & H10","v":"MsDown\\n\\n\\n"},null,{"$f":"\"\" & I9 & \"\\n\" & I10 & \"\\n\" & J9 & \"\\n\" & J10","v":"MsRght\\n\\n\\n"},null,{"$f":"\"\" & K9 & \"\\n\" & K10 & \"\\n\" & L9 & \"\\n\" & L10","v":"DeroulB\\n\\n\\n"},null,{"$f":"M10","v":"Volume -"},{"$nulls":3},{"$f":"Q10","v":"Lect/Pause"},null,{"$f":"\"\" & S9 & \"\\n\" & S10 & \"\\n\" & T9 & \"\\n\" & T10","v":"\\n\\n\\n"},null,{"$f":"\"\" & U9 & \"\\n\" & U10 & \"\\n\" & V9 & \"\\n\" & V10","v":"Lclk\\n\\n\\n"},null,{"$f":"\"\" & W9 & \"\\n\" & W10 & \"\\n\" & X9 & \"\\n\" & X10","v":"Rclk\\n\\n\\n"},null,{"$f":"\"\" & Y9 & \"\\n\" & Y10 & \"\\n\" & Z9 & \"\\n\" & Z10","v":"\\n\\n\\n"},null,{"$f":"\"\" & AA9 & \"\\n\" & AA10 & \"\\n\" & AB9 & \"\\n\" & AB10","v":"\\n\\n\\n"},null,{"$f":"\"\" & AC9 & \"\\n\" & AC10 & \"\\n\" & AD9 & \"\\n\" & AD10","v":"\\n\\n\\n"}]
[]
[{"$f":"\"\" & A11 & \"\\n\" & A12 & \"\\n\" & B11 & \"\\n\" & B12","v":"Souris Acc 1\\n\\n\\n"},null,{"$f":"\"\" & C11 & \"\\n\" & C12 & \"\\n\" & D11 & \"\\n\" & D12","v":"\\n\\n\\n"},null,{"$f":"\"\" & E11 & \"\\n\" & E12 & \"\\n\" & F11 & \"\\n\" & F12","v":"DeroulG\\n\\n\\n"},null,{"$f":"\"\" & G11 & \"\\n\" & G12 & \"\\n\" & H11 & \"\\n\" & H12","v":"\\n\\n\\n"},null,{"$f":"\"\" & I11 & \"\\n\" & I12 & \"\\n\" & J11 & \"\\n\" & J12","v":"DeroulD\\n\\n\\n"},null,{"$f":"\"\" & K11 & \"\\n\" & K12 & \"\\n\" & L11 & \"\\n\" & L12","v":"\\n\\n\\n"},{"$nulls":7},{"$f":"\"\" & S11 & \"\\n\" & S12 & \"\\n\" & T11 & \"\\n\" & T12","v":"\\n\\n\\n"},null,{"$f":"\"\" & U11 & \"\\n\" & U12 & \"\\n\" & V11 & \"\\n\" & V12","v":"\\n\\n\\n"},null,{"$f":"\"\" & W11 & \"\\n\" & W12 & \"\\n\" & X11 & \"\\n\" & X12","v":"\\n\\n\\n"},null,{"$f":"\"\" & Y11 & \"\\n\" & Y12 & \"\\n\" & Z11 & \"\\n\" & Z12","v":"\\n\\n\\n"},null,{"$f":"\"\" & AA11 & \"\\n\" & AA12 & \"\\n\" & AB11 & \"\\n\" & AB12","v":"\\n\\n\\n"},null,{"$f":"\"\" & AC11 & \"\\n\" & AC12 & \"\\n\" & AD11 & \"\\n\" & AD12","v":"\\n\\n\\n"}]
[]
[{"$f":"\"\" & A13 & \"\\n\" & A14 & \"\\n\" & B13 & \"\\n\" & B14","v":"Souris Acc 0\\n\\n\\n"},null,{"$f":"\"\" & C13 & \"\\n\" & C14 & \"\\n\" & D13 & \"\\n\" & D14","v":"Alt\\n\\n\\n"},null,{"$f":"\"\" & E13 & \"\\n\" & E14 & \"\\n\" & F13 & \"\\n\" & F14","v":"GUIL\\n\\n\\n"},null,{"$f":"\"\" & G13 & \"\\n\" & G14 & \"\\n\" & H13 & \"\\n\" & H14","v":"Alt Gr\\n\\n\\n"},null,{"$f":"\"\" & I13 & \"\\n\" & I14 & \"\\n\" & J13 & \"\\n\" & J14","v":"ShiftG\\n\\n\\n"},{"$nulls":11},{"$f":"\"\" & U13 & \"\\n\" & U14 & \"\\n\" & V13 & \"\\n\" & V14","v":"Fn2\\n\\n\\n"},null,{"$f":"\"\" & W13 & \"\\n\" & W14 & \"\\n\" & X13 & \"\\n\" & X14","v":"Fin\\n\\n\\n"},null,{"$f":"\"\" & Y13 & \"\\n\" & Y14 & \"\\n\" & Z13 & \"\\n\" & Z14","v":"GUID\\n\\n\\n"},null,{"$f":"\"\" & AA13 & \"\\n\" & AA14 & \"\\n\" & AB13 & \"\\n\" & AB14","v":"Alt\\n\\n\\n"},null,{"$f":"\"\" & AC13 & \"\\n\" & AC14 & \"\\n\" & AD13 & \"\\n\" & AD14","v":"CtrlD\\n\\n\\n"}]
[]
[]
[]
["http://www.keyboard-layout-editor.com (raffraichissement automatique)",{"$nulls":14},"Code layout (à coller dans Keymap.c) Raffraichissement manuel (Via macro) "]
[{"$f":"\"[{x:3.5},\"\"\"&G23&\"\"\",{x:10.5},\"\"\"&W23&\"\"\"],\"","v":"[{x:3.5},\"\\n\\n\\n\",{x:10.5},\"\\n\\n\\n\"],"},{"$nulls":14},"/*Keymap 3: Multimedia -Mouse"]
[{"$f":"\"[{y:-0.875,x:2.5},\"\"\" & E23 & \"\"\",{x:1},\"\"\" & I23 & \"\"\",{x:8.5},\"\"\" & U23 & \"\"\",{x:1},\"\"\" & Y23 & \"\"\"],\"","v":"[{y:-0.875,x:2.5},\"\\n\\n\\n\",{x:1},\"\\n\\n\\n\",{x:8.5},\"\\n\\n\\n\",{x:1},\"\\n\\n\\n\"],"},{"$nulls":14},"*"]
[{"$f":"\"[{y:-0.875,x:5.5},\"\"\" & K23 & \"\"\",\"\"\" & M23 &\"\"\",{x:4.5},\"\"\"& Q23 & \"\"\",\"\"\" & S23 & \"\"\"],\"","v":"[{y:-0.875,x:5.5},\"\\n\\n\\n\",\"Titre -\\n\\n\\n\",{x:4.5},\"Titre +\\n\\n\\n\",\"\\n\\n\\n\"],"},{"$nulls":14},"* ,--------------------------------------------------.           ,--------------------------------------------------."]
[{"$f":"\"[{y:-0.875,w:1.5},\"\"\" & A23 & \"\"\",\"\"\" & C23 & \"\"\",{x:14.5},\"\"\" &AA23 &\"\"\",{w:1.5},\"\"\" & AC23 & \"\"\"],\"","v":"[{y:-0.875,w:1.5},\"\\n\\n\\n\",\"\\n\\n\\n\",{x:14.5},\"\\n\\n\\n\",{w:1.5},\"\\n\\n\\n\"],"},{"$nulls":14},"* |        |      |      |      |      |      |Titre |           |Titre |      |      |      |      |      |        |"]
[{"$f":"\"[{y:-0.375,x:3.5},\"\"\" & G25 & \"\"\",{x:10.5},\"\"\" & W25&\"\"\"],\"","v":"[{y:-0.375,x:3.5},\"MsUp\\n\\n\\n\",{x:10.5},\"\\n\\n\\n\"],"},{"$nulls":14},"* |--------+------+------+------+------+------+------|           |------+------+------+------+------+------+--------|"]
[{"$f":"\"[{y:-0.875,x:2.5},\"\"\" & E25 &\"\"\",{x:1},\"\"\" & I25 &\"\"\",{x:8.5},\"\"\" & U25 &\"\"\",{x:1},\"\"\" & Y25 &\"\"\"],\"","v":"[{y:-0.875,x:2.5},\"\\n\\n\\n\",{x:1},\"\\n\\n\\n\",{x:8.5},\"\\n\\n\\n\",{x:1},\"\\n\\n\\n\"],"},{"$nulls":14},"* |        |      |      | MsUp |      |Deroul|Volume|           | Stop |      |      |      |      |      |        |"]
[{"$f":"\"[{y:-0.875,x:5.5},\"\"\" & K25 & \"\"\" ,{h:1.5},\"\"\" & M25 & \"\"\",{x:4.5,h:1.5},\"\"\" & Q25 & \"\"\",\"\"\" & S25 & \"\"\"],\"","v":"[{y:-0.875,x:5.5},\"DeroulH\\n\\n\\n\" ,{h:1.5},\"Volume +\",{x:4.5,h:1.5},\"Stop\",\"\\n\\n\\n\"],"},{"$nulls":14},"* |--------+------+------+------+------+------|      |           |      |------+------+------+------+------+--------|"]
[{"$f":" \"[{y:-0.875,w:1.5},\"\"\" & A25 &\"\"\",\"\"\" & C25 &\"\"\",{x:14.5},\"\"\" & AA25 &\"\"\",{w:1.5},\"\"\" & AC25 &\"\"\"],\"","v":"[{y:-0.875,w:1.5},\"\\n\\n\\n\",\"\\n\\n\\n\",{x:14.5},\"\\n\\n\\n\",{w:1.5},\"\\n\\n\\n\"],"},{"$nulls":14},"* | Souris |      |MsLeft|MsDown|MsRght|Deroul|------|           |------|      | Lclk | Rclk |      |      |        |"]
[{"$f":"\"[{y:-0.375,x:3.5},\"\"\" & G27& \"\"\",{x:10.5},\"\"\" & W27& \"\"\"],\"","v":"[{y:-0.375,x:3.5},\"MsDown\\n\\n\\n\",{x:10.5},\"Rclk\\n\\n\\n\"],"},{"$nulls":14},"* |--------+------+------+------+------+------|      |           |      |------+------+------+------+------+--------|"]
[{"$f":"\"[{y:-0.875,x:2.5},\"\"\" &E27& \"\"\",{x:1},\"\"\" &I27& \"\"\",{x:8.5},\"\"\" &U27& \"\"\",{x:1},\"\"\" &Y27& \"\"\"],\"","v":"[{y:-0.875,x:2.5},\"MsLeft\\n\\n\\n\",{x:1},\"MsRght\\n\\n\\n\",{x:8.5},\"Lclk\\n\\n\\n\",{x:1},\"\\n\\n\\n\"],"},{"$nulls":14},"* | Souris |      |Deroul|      |Deroul|      |Volume|           |Lect/P|      |      |      |      |      |        |"]
[{"$f":"\"[{y:-0.875,x:5.5},\"\"\" & K27 &\"\"\",{x:6.5},\"\"\" & S27 & \"\"\"],\"","v":"[{y:-0.875,x:5.5},\"DeroulB\\n\\n\\n\",{x:6.5},\"\\n\\n\\n\"],"},{"$nulls":14},"* `--------+------+------+------+------+-------------'           `-------------+------+------+------+------+--------'"]
[{"$f":"\"[{y:-0.875,w:1.5},\"\"\" & A27 & \"\"\",\"\"\" & C27 & \"\"\",{x:14.5},\"\"\" & AA27 & \"\"\",{w:1.5},\"\"\" & AC27 & \"\"\"],\"","v":"[{y:-0.875,w:1.5},\"Souris Acc 2\\n\\n\\n\",\"\\n\\n\\n\",{x:14.5},\"\\n\\n\\n\",{w:1.5},\"\\n\\n\\n\"],"},{"$nulls":14},"*   |Souris| Alt  | GUIL |Alt Gr|ShiftG|                                       | Fn2  | Fin  | GUID | Alt  |CtrlD   |"]
[{"$f":"\"[{y:-0.625,x:6.5,h:1.5},\"\"\" & M27 & \"\"\",{x:4.5,h:1.5},\"\"\" & Q27 & \"\"\"],\"","v":"[{y:-0.625,x:6.5,h:1.5},\"Volume -\",{x:4.5,h:1.5},\"Lect/Pause\"],"},{"$nulls":14},"*   `----------------------------------'                                       `----------------------------------'"]
[{"$f":"\"[{y:-0.75,x:3.5},\"\"\" & G29 & \"\"\",{x:10.5},\"\"\" & W29 & \"\"\"],\"","v":"[{y:-0.75,x:3.5},\"\\n\\n\\n\",{x:10.5},\"\\n\\n\\n\"],"},{"$nulls":14},"*                                        ,-------------.       ,-------------."]
[{"$f":"\"[{y:-0.875,x:2.5},\"\"\" & E29& \"\"\",{x:1},\"\"\" &I29 & \"\"\",{x:8.5},\"\"\" & U29& \"\"\",{x:1},\"\"\" &Y29 & \"\"\"],\"","v":"[{y:-0.875,x:2.5},\"DeroulG\\n\\n\\n\",{x:1},\"DeroulD\\n\\n\\n\",{x:8.5},\"\\n\\n\\n\",{x:1},\"\\n\\n\\n\"],"},{"$nulls":14},"*                                        |      |      |       |      |      |       "]
[{"$f":"\"[{y:-0.875,x:5.5},\"\"\" & K29& \"\"\",{x:6.5},\"\"\" &S29 & \"\"\"],\"","v":"[{y:-0.875,x:5.5},\"\\n\\n\\n\",{x:6.5},\"\\n\\n\\n\"],"},{"$nulls":14},"*                                 ,------|------|------|       |------+------+------."]
[{"$f":"\"[{y:-0.875,w:1.5},\"\"\" &A29& \"\"\",\"\"\" &C29& \"\"\",{x:14.5},\"\"\" &AA29& \"\"\",{w:1.5},\"\"\" &AC29& \"\"\"],\"","v":"[{y:-0.875,w:1.5},\"Souris Acc 1\\n\\n\\n\",\"\\n\\n\\n\",{x:14.5},\"\\n\\n\\n\",{w:1.5},\"\\n\\n\\n\"],"},{"$nulls":14},"*                                 |      |      |      |       |      |      |      |"]
[{"$f":"\"[{y:-0.375,x:3.5},\"\"\" & G31& \"\"\",{x:10.5},\"\"\" & W31& \"\"\"],\"","v":"[{y:-0.375,x:3.5},\"Alt Gr\\n\\n\\n\",{x:10.5},\"Fin\\n\\n\\n\"],"},{"$nulls":14},"*                                 |      |      |------|       |------|      |      |"]
[{"$f":"\"[{y:-0.875,x:2.5},\"\"\" & E31& \"\"\",{x:1},\"\"\" & I31& \"\"\",{x:8.5},\"\"\" &U31 & \"\"\",{x:1},\"\"\" & Y31& \"\"\"],\"","v":"[{y:-0.875,x:2.5},\"GUIL\\n\\n\\n\",{x:1},\"ShiftG\\n\\n\\n\",{x:8.5},\"Fn2\\n\\n\\n\",{x:1},\"GUID\\n\\n\\n\"],"},{"$nulls":14},"*                                 | Mute | Mute | Fn2  |       | Fn1  | Mute | Mute |"]
[{"$f":"\"[{y:-0.75,x:0.5},\"\"\" & A31& \"\"\",\"\"\" & C31& \"\"\",{x:14.5},\"\"\" & AA31& \"\"\",\"\"\" &AC31 & \"\"\"],\"","v":"[{y:-0.75,x:0.5},\"Souris Acc 0\\n\\n\\n\",\"Alt\\n\\n\\n\",{x:14.5},\"Alt\\n\\n\\n\",\"CtrlD\\n\\n\\n\"],"},{"$nulls":14},"*                                 `--------------------'       `--------------------'"]
[{"$f":"\"[{r:30,rx:6.5,ry:4.25,y:-1,x:1},\"\"\" &K16 & \"\"\",\"\"\" &M16 & \"\"\"],\"","v":"[{r:30,rx:6.5,ry:4.25,y:-1,x:1},\"\",\"\"],"},{"$nulls":14},"*/"]
[{"$f":"\"[{h:2},\"\"\" &I18& \"\"\",{h:2},\"\"\" &K18& \"\"\",\"\"\" &M18& \"\"\"],\"","v":"[{h:2},\"Mute\",{h:2},\"Mute\",\"\"],"},{"$nulls":14},"[MDIA] = LAYOUT_ergodox("]
[{"$f":"\"[{x:2},\"\"\" &M20&\"\"\"],\"","v":"[{x:2},\"Fn2\"],"},{"$nulls":14},"//Left hand"]
[{"$f":"\"[{r:-30,rx:13,y:-1,x:-3},\"\"\" & Q16 & \"\"\",\"\"\" & S16 & \"\"\"],\"","v":"[{r:-30,rx:13,y:-1,x:-3},\"\",\"\"],"},{"$nulls":14},"        KC_TRNS        ,KC_TRNS        ,KC_TRNS        ,KC_TRNS        ,KC_TRNS        ,KC_TRNS        ,KC_MPRV        ,"]
[{"$f":"\"[{x:-3},\"\"\" &Q18& \"\"\",{h:2},\"\"\" &S18& \"\"\",{h:2},\"\"\" &U18& \"\"\"],\"","v":"[{x:-3},\"\",{h:2},\"Mute\",{h:2},\"Mute\"],"},{"$nulls":14},"        KC_TRNS        ,KC_TRNS        ,KC_TRNS        ,KC_MS_U        ,KC_TRNS        ,KC_WH_U        ,KC_VOLU        ,"]
[{"$f":"\"[{x:-3},\"\"\"&Q20&\"\"\"]\"","v":"[{x:-3},\"Fn1\"]"},{"$nulls":14},"        KC_ACL2        ,KC_TRNS        ,KC_MS_L        ,KC_MS_D        ,KC_MS_R        ,KC_WH_D        ,                "]
[{"$nulls":15},"        KC_ACL1        ,KC_TRNS        ,KC_WH_L        ,KC_TRNS        ,KC_WH_R        ,KC_TRNS        ,KC_VOLD        ,"]
[{"$nulls":15},"        KC_ACL0        ,KC_LALT        ,KC_LGUI        ,BP_ALGR        ,KC_LSFT        ,                                "]
[{"$nulls":15},"                                                                                        KC_TRNS        ,KC_TRNS        ,"]
[{"$nulls":15},"                                                                                                        KC_TRNS        ,"]
[{"$nulls":15},"                                                                        KC_MUTE        ,KC_MUTE        ,KC_FN2         ,"]
[{"$nulls":15},"//Right hand"]
[{"$nulls":15},"        KC_MNXT        ,KC_TRNS        ,KC_TRNS        ,KC_TRNS        ,KC_TRNS        ,KC_TRNS        ,KC_TRNS        ,"]
[{"$nulls":15},"        KC_MSTP        ,KC_TRNS        ,KC_TRNS        ,KC_TRNS        ,KC_TRNS        ,KC_TRNS        ,KC_TRNS        ,"]
[{"$nulls":15},"                        KC_TRNS        ,KC_BTN1        ,KC_BTN2        ,KC_TRNS        ,KC_TRNS        ,KC_TRNS        ,"]
[{"$nulls":15},"        KC_MPLY        ,KC_TRNS        ,KC_TRNS        ,KC_TRNS        ,KC_TRNS        ,KC_TRNS        ,KC_TRNS        ,"]
[{"$nulls":15},"                                        KC_FN2         ,KC_END         ,KC_RGUI        ,KC_LALT        ,KC_RCTL        ,"]
[{"$nulls":15},"        KC_TRNS        ,KC_TRNS        ,                                                                                "]
[{"$nulls":15},"        KC_TRNS        ,                                                                                                "]
[{"$nulls":15},"        KC_FN1         ,KC_MUTE        ,KC_MUTE                                                                        "]
[{"$nulls":15},"    ),"]

{"sheet":"Version","index":4,"n_rows":1,"n_cols":3,"rows_kept":1,"hidden":true}
["0.1","2018-02-18","Version initiale\nGénération http://www.keyboard-layout-editor.com Layout 1 OK\nGénération keyboard.c Layout 1 OK (sauf commentaires)"]

{"sheet":"Layout 5","index":5,"n_rows":76,"n_cols":29,"rows_kept":76,"merged":[[0,0,2,29],[3,0,3,29],[4,0,5,1],[4,2,5,3],[4,4,5,5],[4,6,5,7],[4,8,5,9],[4,10,5,11],[4,12,5,13],[4,16,5,17],[4,18,5,19],[4,20,5,21],[4,22,5,23],[4,24,5,25],[4,26,5,27],[4,28,5,29],[6,0,7,1],[6,2,7,3],[6,4,7,5],[6,6,7,7],[6,8,7,9],[6,10,7,11],[6,12,8,13],[6,16,8,17],[6,18,7,19],[6,20,7,21],[6,22,7,23],[6,24,7,25],[6,26,7,27],[6,28,7,29],[8,0,9,1],[8,2,9,3],[8,4,9,5],[8,6,9,7],[8,8,9,9],[8,10,9,11],[8,18,9,19],[8,20,9,21],[8,22,9,23],[8,24,9,25],[8,26,9,27],[8,28,9,29],[9,12,11,13],[9,16,11,17],[10,0,11,1],[10,2,11,3],[10,4,11,5],[10,6,11,7],[10,8,11,9],[10,10,11,11],[10,14,11,15],[10,18,11,19],[10,20,11,21],[10,22,11,23],[10,24,11,25],[10,26,11,27],[10,28,11,29],[12,0,13,1],[12,2,13,3],[12,4,13,5],[12,6,13,7],[12,8,13,9],[12,20,13,21],[12,22,13,23],[12,24,13,25],[12,26,13,27],[12,28,13,29],[15,10,16,11],[15,12,16,13],[15,16,16,17],[15,18,16,19],[17,8,20,9],[17,10,20,11],[17,12,18,13],[17,16,18,17],[17,18,20,19],[17,20,20,21],[19,12,20,13],[19,16,20,17],[22,0,23,1],[22,2,23,3],[22,4,23,5],[22,6,23,7],[22,8,23,9],[22,10,23,11],[22,12,23,13],[22,16,23,17],[22,18,23,19],[22,20,23,21],[22,22,23,23],[22,24,23,25],[22,26,23,27],[22,28,23,29],[24,0,25,1],[24,2,25,3],[24,4,25,5],[24,6,25,7],[24,8,25,9],[24,10,25,11],[24,12,25,13],[24,16,25,17],[24,18,25,19],[24,20,25,21],[24,22,25,23],[24,24,25,25],[24,26,25,27],[24,28,25,29],[26,0,27,1],[26,2,27,3],[26,4,27,5],[26,6,27,7],[26,8,27,9],[26,10,27,11],[26,12,27,13],[26,16,27,17],[26,18,27,19],[26,20,27,21],[26,22,27,23],[26,24,27,25],[26,26,27,27],[26,28,27,29],[28,0,29,1],[28,2,29,3],[28,4,29,5],[28,6,29,7],[28,8,29,9],[28,10,29,11],[28,12,29,13],[28,16,29,17],[28,18,29,19],[28,20,29,21],[28,22,29,23],[28,24,29,25],[28,26,29,27],[28,28,29,29],[30,0,31,1],[30,2,31,3],[30,4,31,5],[30,6,31,7],[30,8,31,9],[30,10,31,11],[30,12,31,13],[30,16,31,17],[30,18,31,19],[30,20,31,21],[30,22,31,23],[30,24,31,25],[30,26,31,27],[30,28,31,29],[34,0,34,13],[34,15,34,35],[35,15,35,35],[36,15,36,35],[37,15,37,35],[38,15,38,35],[39,15,39,35],[40,15,40,35],[41,15,41,35],[42,15,42,35],[43,15,43,35],[44,15,44,35],[45,15,45,35],[46,15,46,35],[47,15,47,35],[48,15,48,35],[49,15,49,35],[50,15,50,35],[51,15,51,35],[52,15,52,35],[53,15,53,35],[54,15,54,35],[55,15,55,35],[56,15,56,35],[57,15,57,35],[58,15,58,35],[59,15,59,35],[60,15,60,35],[61,15,61,35],[62,15,62,35],[63,15,63,35],[64,15,64,35],[65,15,65,35],[66,15,66,35],[67,15,67,35],[68,15,68,35],[69,15,69,35],[70,15,70,35],[71,15,71,35],[72,15,72,35],[73,15,73,35],[74,15,74,35],[75,15,75,35]]}
["FONC"]
[]
[]
["Keymap 4: Funtion keys layer"]
[{"$nulls":4},"F12",null,"F11",null,"F10",{"$nulls":7},"Del",{"$nulls":3},"F10",null,"F11",null,"F12"]
[]
[{"$nulls":4},"F9",null,"F8",null,"F7",{"$nulls":3},"SH(F2)",{"$nulls":3},"SH(F3)",{"$nulls":3},"F7",null,"F8",null,"F9"]
[]
[{"$nulls":4},"F6",null,"F5",null,"F4",null,"SH(F8)",{"$nulls":7},"SH(F9)",null,"F4",null,"F5",null,"F6"]
[{"$nulls":12},"SH(F5)",{"$nulls":3},"SH(F7)"]
[{"$nulls":4},"F3",null,"F2",null,"F1",{"$nulls":11},"F1",null,"F2",null,"F3"]
[]
["CtrlG",null,"Alt",null,"GUIL",null,"Alt Gr",null,"ShiftG",{"$nulls":13},"Alt Gr",null,"GUID",null,"Alt",null,"CtrlD"]
[]
[]
[{"$nulls":10},"Fn3",null,"Esc",{"$nulls":3},"Caps Lock",null,"Fn3"]
[]
[{"$nulls":8},"F5",null,"ShiftG",{"$nulls":7},"Paste",null,"F8"]
[]
[{"$nulls":12},"F8"]
[]
[]
[{"$f":"\"\" & A5 & \"\\n\" & A6 & \"\\n\" & B5 & \"\\n\" & B6","v":"\\n\\n\\n"},null,{"$f":"\"\" & C5 & \"\\n\" & C6 & \"\\n\" & D5 & \"\\n\" & D6","v":"\\n\\n\\n"},null,"F12\\n\\n\\n",null,"F11\\n\\n\\n",null,"F10\\n\\n\\n",null,"\\n\\n\\n",null,"\\n\\n\\n",{"$nulls":3},"Del\\n\\n\\n",null,"\\n\\n\\n",null,"F10\\n\\n\\n",null,"F11\\n\\n\\n",null,"F12\\n\\n\\n",null,"\\n\\n\\n",null,"\\n\\n\\n"]
[]
[{"$f":"\"\" & A7 & \"\\n\" & A8 & \"\\n\" & B7 & \"\\n\" & B8","v":"\\n\\n\\n"},null,{"$f":"\"\" & C7 & \"\\n\" & C8 & \"\\n\" & D7 & \"\\n\" & D8","v":"\\n\\n\\n"},null,{"$f":"\"\" & E7 & \"\\n\" & E8 & \"\\n\" & F7 & \"\\n\" & F8","v":"F9\\n\\n\\n"},null,{"$f":"\"\" & G7 & \"\\n\" & G8 & \"\\n\" & H7 & \"\\n\" & H8","v":"F8\\n\\n\\n"},null,{"$f":"\"\" & I7 & \"\\n\" & I8 & \"\\n\" & J7 & \"\\n\" & J8","v":"F7\\n\\n\\n"},null,{"$f":"\"\" & K7 & \"\\n\" & K8 & \"\\n\" & L7 & \"\\n\" & L8","v":"\\n\\n\\n"},null,{"$f":"M7","v":"SH(F2)"},{"$nulls":3},{"$f":"Q7","v":"SH(F3)"},null,{"$f":"\"\" & S7 & \"\\n\" & S8 & \"\\n\" & T7 & \"\\n\" & T8","v":"\\n\\n\\n"},null,{"$f":"\"\" & U7 & \"\\n\" & U8 & \"\\n\" & V7 & \"\\n\" & V8","v":"F7\\n\\n\\n"},null,{"$f":"\"\" & W7 & \"\\n\" & W8 & \"\\n\" & X7 & \"\\n\" & X8","v":"F8\\n\\n\\n"},null,{"$f":"\"\" & Y7 & \"\\n\" & Y8 & \"\\n\" & Z7 & \"\\n\" & Z8","v":"F9\\n\\n\\n"},null,{"$f":"\"\" & AA7 & \"\\n\" & AA8 & \"\\n\" & AB7 & \"\\n\" & AB8","v":"\\n\\n\\n"},null,{"$f":"\"\" & AC7 & \"\\n\" & AC8 & \"\\n\" & AD7 & \"\\n\" & AD8","v":"\\n\\n\\n"}]
[]
[{"$f":"\"\" & A9 & \"\\n\" & A10 & \"\\n\" & B9 & \"\\n\" & B10","v":"\\n\\n\\n"},null,{"$f":"\"\" & C9 & \"\\n\" & C10 & \"\\n\" & D9 & \"\\n\" & D10","v":"\\n\\n\\n"},null,{"$f":"\"\" & E9 & \"\\n\" & E10 & \"\\n\" & F9 & \"\\n\" & F10","v":"F6\\n\\n\\n"},null,{"$f":"\"\" & G9 & \"\\n\" & G10 & \"\\n\" & H9 & \"\\n\" & H10","v":"F5\\n\\n\\n"},null,{"$f":"\"\" & I9 & \"\\n\" & I10 & \"\\n\" & J9 & \"\\n\" & J10","v":"F4\\n\\n\\n"},null,{"$f":"\"\" & K9 & \"\\n\" & K10 & \"\\n\" & L9 & \"\\n\" & L10","v":"SH(F8)\\n\\n\\n"},null,{"$f":"M10","v":"SH(F5)"},{"$nulls":3},{"$f":"Q10","v":"SH(F7)"},null,{"$f":"\"\" & S9 & \"\\n\" & S10 & \"\\n\" & T9 & \"\\n\" & T10","v":"SH(F9)\\n\\n\\n"},null,{"$f":"\"\" & U9 & \"\\n\" & U10 & \"\\n\" & V9 & \"\\n\" & V10","v":"F4\\n\\n\\n"},null,{"$f":"\"\" & W9 & \"\\n\" & W10 & \"\\n\" & X9 & \"\\n\" & X10","v":"F5\\n\\n\\n"},null,{"$f":"\"\" & Y9 & \"\\n\" & Y10 & \"\\n\" & Z9 & \"\\n\" & Z10","v":"F6\\n\\n\\n"},null,{"$f":"\"\" & AA9 & \"\\n\" & AA10 & \"\\n\" & AB9 & \"\\n\" & AB10","v":"\\n\\n\\n"},null,{"$f":"\"\" & AC9 & \"\\n\" & AC10 & \"\\n\" & AD9 & \"\\n\" & AD10","v":"\\n\\n\\n"}]
[]
[{"$f":"\"\" & A11 & \"\\n\" & A12 & \"\\n\" & B11 & \"\\n\" & B12","v":"\\n\\n\\n"},null,{"$f":"\"\" & C11 & \"\\n\" & C12 & \"\\n\" & D11 & \"\\n\" & D12","v":"\\n\\n\\n"},null,{"$f":"\"\" & E11 & \"\\n\" & E12 & \"\\n\" & F11 & \"\\n\" & F12","v":"F3\\n\\n\\n"},null,{"$f":"\"\" & G11 & \"\\n\" & G12 & \"\\n\" & H11 & \"\\n\" & H12","v":"F2\\n\\n\\n"},null,{"$f":"\"\" & I11 & \"\\n\" & I12 & \"\\n\" & J11 & \"\\n\" & J12","v":"F1\\n\\n\\n"},null,{"$f":"\"\" & K11 & \"\\n\" & K12 & \"\\n\" & L11 & \"\\n\" & L12","v":"\\n\\n\\n"},{"$nulls":7},{"$f":"\"\" & S11 & \"\\n\" & S12 & \"\\n\" & T11 & \"\\n\" & T12","v":"\\n\\n\\n"},null,{"$f":"\"\" & U11 & \"\\n\" & U12 & \"\\n\" & V11 & \"\\n\" & V12","v":"F1\\n\\n\\n"},null,{"$f":"\"\" & W11 & \"\\n\" & W12 & \"\\n\" & X11 & \"\\n\" & X12","v":"F2\\n\\n\\n"},null,{"$f":"\"\" & Y11 & \"\\n\" & Y12 & \"\\n\" & Z11 & \"\\n\" & Z12","v":"F3\\n\\n\\n"},null,{"$f":"\"\" & AA11 & \"\\n\" & AA12 & \"\\n\" & AB11 & \"\\n\" & AB12","v":"\\n\\n\\n"},null,{"$f":"\"\" & AC11 & \"\\n\" & AC12 & \"\\n\" & AD11 & \"\\n\" & AD12","v":"\\n\\n\\n"}]
[]
[{"$f":"\"\" & A13 & \"\\n\" & A14 & \"\\n\" & B13 & \"\\n\" & B14","v":"CtrlG\\n\\n\\n"},null,{"$f":"\"\" & C13 & \"\\n\" & C14 & \"\\n\" & D13 & \"\\n\" & D14","v":"Alt\\n\\n\\n"},null,{"$f":"\"\" & E13 & \"\\n\" & E14 & \"\\n\" & F13 & \"\\n\" & F14","v":"GUIL\\n\\n\\n"},null,{"$f":"\"\" & G13 & \"\\n\" & G14 & \"\\n\" & H13 & \"\\n\" & H14","v":"Alt Gr\\n\\n\\n"},null,{"$f":"\"\" & I13 & \"\\n\" & I14 & \"\\n\" & J13 & \"\\n\" & J14","v":"ShiftG\\n\\n\\n"},{"$nulls":11},{"$f":"\"\" & U13 & \"\\n\" & U14 & \"\\n\" & V13 & \"\\n\" & V14","v":"\\n\\n\\n"},null,{"$f":"\"\" & W13 & \"\\n\" & W14 & \"\\n\" & X13 & \"\\n\" & X14","v":"Alt Gr\\n\\n\\n"},null,{"$f":"\"\" & Y13 & \"\\n\" & Y14 & \"\\n\" & Z13 & \"\\n\" & Z14","v":"GUID\\n\\n\\n"},null,{"$f":"\"\" & AA13 & \"\\n\" & AA14 & \"\\n\" & AB13 & \"\\n\" & AB14","v":"Alt\\n\\n\\n"},null,{"$f":"\"\" & AC13 & \"\\n\" & AC14 & \"\\n\" & AD13 & \"\\n\" & AD14","v":"CtrlD\\n\\n\\n"}]
[]
[]
[]
["http://www.keyboard-layout-editor.com (raffraichissement automatique)",{"$nulls":14},"Code layout (à coller dans Keymap.c) Raffraichissement manuel (Via macro) "]
[{"$f":"\"[{x:3.5},\"\"\"&G23&\"\"\",{x:10.5},\"\"\"&W23&\"\"\"],\"","v":"[{x:3.5},\"F11\\n\\n\\n\",{x:10.5},\"F11\\n\\n\\n\"],"},{"$nulls":14},"/*Keymap 4: Funtion keys layer"]
[{"$f":"\"[{y:-0.875,x:2.5},\"\"\" & E23 & \"\"\",{x:1},\"\"\" & I23 & \"\"\",{x:8.5},\"\"\" & U23 & \"\"\",{x:1},\"\"\" & Y23 & \"\"\"],\"","v":"[{y:-0.875,x:2.5},\"F12\\n\\n\\n\",{x:1},\"F10\\n\\n\\n\",{x:8.5},\"F10\\n\\n\\n\",{x:1},\"F12\\n\\n\\n\"],"},{"$nulls":14},"*"]
[{"$f":"\"[{y:-0.875,x:5.5},\"\"\" & K23 & \"\"\",\"\"\" & M23 &\"\"\",{x:4.5},\"\"\"& Q23 & \"\"\",\"\"\" & S23 & \"\"\"],\"","v":"[{y:-0.875,x:5.5},\"\\n\\n\\n\",\"\\n\\n\\n\",{x:4.5},\"Del\\n\\n\\n\",\"\\n\\n\\n\"],"},{"$nulls":14},"* ,--------------------------------------------------.           ,--------------------------------------------------."]
[{"$f":"\"[{y:-0.875,w:1.5},\"\"\" & A23 & \"\"\",\"\"\" & C23 & \"\"\",{x:14.5},\"\"\" &AA23 &\"\"\",{w:1.5},\"\"\" & AC23 & \"\"\"],\"","v":"[{y:-0.875,w:1.5},\"\\n\\n\\n\",\"\\n\\n\\n\",{x:14.5},\"\\n\\n\\n\",{w:1.5},\"\\n\\n\\n\"],"},{"$nulls":14},"* |        |      | F12  | F11  | F10  |      |      |           | Del  |      | F10  | F11  | F12  |      |        |"]
[{"$f":"\"[{y:-0.375,x:3.5},\"\"\" & G25 & \"\"\",{x:10.5},\"\"\" & W25&\"\"\"],\"","v":"[{y:-0.375,x:3.5},\"F8\\n\\n\\n\",{x:10.5},\"F8\\n\\n\\n\"],"},{"$nulls":14},"* |--------+------+------+------+------+------+------|           |------+------+------+------+------+------+--------|"]
[{"$f":"\"[{y:-0.875,x:2.5},\"\"\" & E25 &\"\"\",{x:1},\"\"\" & I25 &\"\"\",{x:8.5},\"\"\" & U25 &\"\"\",{x:1},\"\"\" & Y25 &\"\"\"],\"","v":"[{y:-0.875,x:2.5},\"F9\\n\\n\\n\",{x:1},\"F7\\n\\n\\n\",{x:8.5},\"F7\\n\\n\\n\",{x:1},\"F9\\n\\n\\n\"],"},{"$nulls":14},"* |        |      |  F9  |  F8  |  F7  |      |SH(F2)|           |SH(F3)|      |  F7  |  F8  |  F9  |      |        |"]
[{"$f":"\"[{y:-0.875,x:5.5},\"\"\" & K25 & \"\"\" ,{h:1.5},\"\"\" & M25 & \"\"\",{x:4.5,h:1.5},\"\"\" & Q25 & \"\"\",\"\"\" & S25 & \"\"\"],\"","v":"[{y:-0.875,x:5.5},\"\\n\\n\\n\" ,{h:1.5},\"SH(F2)\",{x:4.5,h:1.5},\"SH(F3)\",\"\\n\\n\\n\"],"},{"$nulls":14},"* |--------+------+------+------+------+------|      |           |      |------+------+------+------+------+--------|"]
[{"$f":" \"[{y:-0.875,w:1.5},\"\"\" & A25 &\"\"\",\"\"\" & C25 &\"\"\",{x:14.5},\"\"\" & AA25 &\"\"\",{w:1.5},\"\"\" & AC25 &\"\"\"],\"","v":"[{y:-0.875,w:1.5},\"\\n\\n\\n\",\"\\n\\n\\n\",{x:14.5},\"\\n\\n\\n\",{w:1.5},\"\\n\\n\\n\"],"},{"$nulls":14},"* |        |      |  F6  |  F5  |  F4  |SH(F8)|------|           |------|SH(F9)|  F4  |  F5  |  F6  |      |        |"]
[{"$f":"\"[{y:-0.375,x:3.5},\"\"\" & G27& \"\"\",{x:10.5},\"\"\" & W27& \"\"\"],\"","v":"[{y:-0.375,x:3.5},\"F5\\n\\n\\n\",{x:10.5},\"F5\\n\\n\\n\"],"},{"$nulls":14},"* |--------+------+------+------+------+------|      |           |      |------+------+------+------+------+--------|"]
[{"$f":"\"[{y:-0.875,x:2.5},\"\"\" &E27& \"\"\",{x:1},\"\"\" &I27& \"\"\",{x:8.5},\"\"\" &U27& \"\"\",{x:1},\"\"\" &Y27& \"\"\"],\"","v":"[{y:-0.875,x:2.5},\"F6\\n\\n\\n\",{x:1},\"F4\\n\\n\\n\",{x:8.5},\"F4\\n\\n\\n\",{x:1},\"F6\\n\\n\\n\"],"},{"$nulls":14},"* |        |      |  F3  |  F2  |  F1  |      |SH(F5)|           |SH(F7)|      |  F1  |  F2  |  F3  |      |        |"]
[{"$f":"\"[{y:-0.875,x:5.5},\"\"\" & K27 &\"\"\",{x:6.5},\"\"\" & S27 & \"\"\"],\"","v":"[{y:-0.875,x:5.5},\"SH(F8)\\n\\n\\n\",{x:6.5},\"SH(F9)\\n\\n\\n\"],"},{"$nulls":14},"* `--------+------+------+------+------+-------------'           `-------------+------+------+------+------+--------'"]
[{"$f":"\"[{y:-0.875,w:1.5},\"\"\" & A27 & \"\"\",\"\"\" & C27 & \"\"\",{x:14.5},\"\"\" & AA27 & \"\"\",{w:1.5},\"\"\" & AC27 & \"\"\"],\"","v":"[{y:-0.875,w:1.5},\"\\n\\n\\n\",\"\\n\\n\\n\",{x:14.5},\"\\n\\n\\n\",{w:1.5},\"\\n\\n\\n\"],"},{"$nulls":14},"*   |CtrlG | Alt  | GUIL |Alt Gr|ShiftG|                                       |      |Alt Gr| GUID | Alt  |CtrlD   |"]
[{"$f":"\"[{y:-0.625,x:6.5,h:1.5},\"\"\" & M27 & \"\"\",{x:4.5,h:1.5},\"\"\" & Q27 & \"\"\"],\"","v":"[{y:-0.625,x:6.5,h:1.5},\"SH(F5)\",{x:4.5,h:1.5},\"SH(F7)\"],"},{"$nulls":14},"*   `----------------------------------'                                       `----------------------------------'"]
[{"$f":"\"[{y:-0.75,x:3.5},\"\"\" & G29 & \"\"\",{x:10.5},\"\"\" & W29 & \"\"\"],\"","v":"[{y:-0.75,x:3.5},\"F2\\n\\n\\n\",{x:10.5},\"F2\\n\\n\\n\"],"},{"$nulls":14},"*                                        ,-------------.       ,-------------."]
[{"$f":"\"[{y:-0.875,x:2.5},\"\"\" & E29& \"\"\",{x:1},\"\"\" &I29 & \"\"\",{x:8.5},\"\"\" & U29& \"\"\",{x:1},\"\"\" &Y29 & \"\"\"],\"","v":"[{y:-0.875,x:2.5},\"F3\\n\\n\\n\",{x:1},\"F1\\n\\n\\n\",{x:8.5},\"F1\\n\\n\\n\",{x:1},\"F3\\n\\n\\n\"],"},{"$nulls":14},"*                                        | Fn3  | Esc  |       |Caps L| Fn3  |       "]
[{"$f":"\"[{y:-0.875,x:5.5},\"\"\" & K29& \"\"\",{x:6.5},\"\"\" &S29 & \"\"\"],\"","v":"[{y:-0.875,x:5.5},\"\\n\\n\\n\",{x:6.5},\"\\n\\n\\n\"],"},{"$nulls":14},"*                                 ,------|------|------|       |------+------+------."]
[{"$f":"\"[{y:-0.875,w:1.5},\"\"\" &A29& \"\"\",\"\"\" &C29& \"\"\",{x:14.5},\"\"\" &AA29& \"\"\",{w:1.5},\"\"\" &AC29& \"\"\"],\"","v":"[{y:-0.875,w:1.5},\"\\n\\n\\n\",\"\\n\\n\\n\",{x:14.5},\"\\n\\n\\n\",{w:1.5},\"\\n\\n\\n\"],"},{"$nulls":14},"*                                 |      |      |      |       |      |      |      |"]
[{"$f":"\"[{y:-0.375,x:3.5},\"\"\" & G31& \"\"\",{x:10.5},\"\"\" & W31& \"\"\"],\"","v":"[{y:-0.375,x:3.5},\"Alt Gr\\n\\n\\n\",{x:10.5},\"Alt Gr\\n\\n\\n\"],"},{"$nulls":14},"*                                 |      |      |------|       |------|      |      |"]
[{"$f":"\"[{y:-0.875,x:2.5},\"\"\" & E31& \"\"\",{x:1},\"\"\" & I31& \"\"\",{x:8.5},\"\"\" &U31 & \"\"\",{x:1},\"\"\" & Y31& \"\"\"],\"","v":"[{y:-0.875,x:2.5},\"GUIL\\n\\n\\n\",{x:1},\"ShiftG\\n\\n\\n\",{x:8.5},\"\\n\\n\\n\",{x:1},\"GUID\\n\\n\\n\"],"},{"$nulls":14},"*                                 |  F5  |ShiftG|  F8  |       |      |Paste |  F8  |"]
[{"$f":"\"[{y:-0.75,x:0.5},\"\"\" & A31& \"\"\",\"\"\" & C31& \"\"\",{x:14.5},\"\"\" & AA31& \"\"\",\"\"\" &AC31 & \"\"\"],\"","v":"[{y:-0.75,x:0.5},\"CtrlG\\n\\n\\n\",\"Alt\\n\\n\\n\",{x:14.5},\"Alt\\n\\n\\n\",\"CtrlD\\n\\n\\n\"],"},{"$nulls":14},"*                                 `--------------------'       `--------------------'"]
[{"$f":"\"[{r:30,rx:6.5,ry:4.25,y:-1,x:1},\"\"\" &K16 & \"\"\",\"\"\" &M16 & \"\"\"],\"","v":"[{r:30,rx:6.5,ry:4.25,y:-1,x:1},\"Fn3\",\"Esc\"],"},{"$nulls":14},"*/"]
[{"$f":"\"[{h:2},\"\"\" &I18& \"\"\",{h:2},\"\"\" &K18& \"\"\",\"\"\" &M18& \"\"\"],\"","v":"[{h:2},\"F5\",{h:2},\"ShiftG\",\"\"],"},{"$nulls":14},"[FONC] = LAYOUT_ergodox("]
[{"$f":"\"[{x:2},\"\"\" &M20&\"\"\"],\"","v":"[{x:2},\"F8\"],"},{"$nulls":14},"//Left hand"]
[{"$f":"\"[{r:-30,rx:13,y:-1,x:-3},\"\"\" & Q16 & \"\"\",\"\"\" & S16 & \"\"\"],\"","v":"[{r:-30,rx:13,y:-1,x:-3},\"Caps Lock\",\"Fn3\"],"},{"$nulls":14},"        KC_TRNS        ,KC_TRNS        ,KC_F12         ,KC_F11         ,KC_F10         ,KC_TRNS        ,KC_TRNS        ,"]
[{"$f":"\"[{x:-3},\"\"\" &Q18& \"\"\",{h:2},\"\"\" &S18& \"\"\",{h:2},\"\"\" &U18& \"\"\"],\"","v":"[{x:-3},\"\",{h:2},\"Paste\",{h:2},\"F8\"],"},{"$nulls":14},"        KC_TRNS        ,KC_TRNS        ,KC_F9          ,KC_F8          ,KC_F7          ,KC_TRNS        ,LSFT(KC_F2)    ,"]
[{"$f":"\"[{x:-3},\"\"\"&Q20&\"\"\"]\"","v":"[{x:-3},\"\"]"},{"$nulls":14},"        KC_TRNS        ,KC_TRNS        ,KC_F6          ,KC_F5          ,KC_F4          ,LSFT(KC_F8)    ,                "]
[{"$nulls":15},"        KC_TRNS        ,KC_TRNS        ,KC_F3          ,KC_F2          ,KC_F1          ,KC_TRNS        ,LSFT(KC_F5)    ,"]
[{"$nulls":15},"        KC_LCTL        ,KC_LALT        ,KC_LGUI        ,BP_ALGR        ,KC_LSFT        ,                                "]
[{"$nulls":15},"                                                                                        KC_FN3         ,KC_ESC         ,"]
[{"$nulls":15},"                                                                                                        KC_TRNS        ,"]
[{"$nulls":15},"                                                                        KC_F5          ,KC_LSFT        ,KC_F8          ,"]
[{"$nulls":15},"//Right hand"]
[{"$nulls":15},"        KC_DELT        ,KC_TRNS        ,KC_F10         ,KC_F11         ,KC_F12         ,KC_TRNS        ,KC_TRNS        ,"]
[{"$nulls":15},"        LSFT(KC_F3)    ,KC_TRNS        ,KC_F7          ,KC_F8          ,KC_F9          ,KC_TRNS        ,KC_TRNS        ,"]
[{"$nulls":15},"                        LSFT(KC_F9)    ,KC_F4          ,KC_F5          ,KC_F6          ,KC_TRNS        ,KC_TRNS        ,"]
[{"$nulls":15},"        LSFT(KC_F7)    ,KC_TRNS        ,KC_F1          ,KC_F2          ,KC_F3          ,KC_TRNS        ,KC_TRNS        ,"]
[{"$nulls":15},"                                        KC_TRNS        ,BP_ALGR        ,KC_RGUI        ,KC_LALT        ,KC_RCTL        ,"]
[{"$nulls":15},"        KC_CAPS        ,KC_FN3         ,                                                                                "]
[{"$nulls":15},"        KC_TRNS        ,                                                                                                "]
[{"$nulls":15},"        KC_TRNS        ,KC_PASTE       ,KC_F8                                                                          "]
[{"$nulls":15},"    )"]

{"sheet":"BDD","index":6,"n_rows":91,"n_cols":27,"rows_kept":91,"merged":[[0,0,1,0],[2,0,3,0],[4,0,5,0],[6,0,7,0],[6,1,7,2],[6,3,7,4],[6,5,7,6],[6,7,7,8],[6,9,7,10],[6,11,7,12],[6,13,7,14],[6,15,7,16],[6,17,7,18],[6,19,7,20],[6,21,7,22],[6,23,7,24],[6,25,7,26],[9,0,10,0],[11,0,12,0],[13,0,14,0],[15,0,16,0],[15,1,16,2],[15,3,16,4],[15,5,16,6],[15,7,16,8],[15,9,16,10],[15,11,16,12],[15,13,16,14],[15,15,16,16],[15,17,16,18],[15,19,16,20],[15,21,16,22],[15,23,16,24],[15,25,16,26],[18,0,19,0],[20,0,21,0],[22,0,23,0],[24,0,25,0],[24,1,25,2],[24,3,25,4],[24,5,25,6],[24,7,25,8],[24,9,25,10],[24,11,25,12],[24,13,25,14],[24,15,25,16],[24,17,25,18],[24,19,25,20],[24,21,25,22],[24,23,25,24],[24,25,25,26],[27,0,28,0],[29,0,30,0],[31,0,32,0],[33,0,34,0],[33,1,34,2],[33,3,34,4],[33,5,34,6],[33,7,34,8],[33,9,34,10],[33,11,34,12],[33,13,34,14],[33,15,34,16],[33,17,34,18],[33,19,34,20],[33,21,34,22],[33,23,34,24],[33,25,34,26],[38,1,38,2],[38,3,38,4],[38,5,38,6],[38,7,38,8],[38,9,38,10],[38,11,38,12],[38,13,38,14],[38,15,38,16],[38,17,38,18],[38,19,38,20],[38,21,38,22],[38,23,38,24],[38,25,38,26],[39,1,39,2],[39,3,39,4],[39,5,39,6],[39,7,39,8],[39,9,39,10],[39,11,39,12],[39,13,39,14],[39,15,39,16],[39,17,39,18],[39,19,39,20],[39,21,39,22],[39,23,39,24],[39,25,39,26],[41,1,41,2],[41,3,41,4],[41,5,41,6],[41,7,41,8],[41,9,41,10],[41,11,41,12],[41,13,41,14],[41,15,41,16],[41,17,41,18],[41,19,41,20],[41,21,41,22],[41,23,41,24],[41,25,41,26],[42,1,42,2],[42,3,42,4],[42,5,42,6],[42,7,42,8],[42,9,42,10],[42,11,42,12],[42,13,42,14],[42,15,42,16],[42,17,42,18],[42,19,42,20],[42,21,42,22],[42,23,42,24],[42,25,42,26],[44,1,44,2],[44,3,44,4],[44,5,44,6],[44,7,44,8],[44,9,44,10],[44,11,44,12],[44,13,44,14],[44,15,44,16],[44,17,44,18],[44,19,44,20],[44,21,44,22],[44,23,44,24],[44,25,44,26],[45,1,45,2],[45,3,45,4],[45,5,45,6],[45,7,45,8],[45,9,45,10],[45,11,45,12],[45,13,45,14],[45,15,45,16],[45,17,45,18],[45,19,45,20],[45,21,45,22],[45,23,45,24],[45,25,45,26],[47,1,47,2],[47,3,47,4],[47,5,47,6],[47,7,47,8],[47,9,47,10],[47,11,47,12],[47,13,47,14],[47,15,47,16],[47,17,47,18],[47,19,47,20],[47,21,47,22],[47,23,47,24],[47,25,47,26],[48,1,48,2],[48,3,48,4],[48,5,48,6],[48,7,48,8],[48,9,48,10],[48,11,48,12],[48,13,48,14],[48,15,48,16],[48,17,48,18],[48,19,48,20],[48,21,48,22],[48,23,48,24],[48,25,48,26],[50,1,50,2],[50,3,50,4],[50,5,50,6],[50,7,50,8],[50,9,50,10],[50,11,50,12],[50,13,50,14],[50,15,50,16],[50,17,50,18],[50,19,50,20],[50,21,50,22],[50,23,50,24],[50,25,50,26],[51,1,51,2],[51,3,51,4],[51,5,51,6],[51,7,51,8],[51,9,51,10],[51,11,51,12],[51,13,51,14],[51,15,51,16],[51,17,51,18],[51,19,51,20],[51,21,51,22],[51,23,51,24],[51,25,51,26],[53,1,53,2],[53,3,53,4],[53,5,53,6],[53,7,53,8],[53,9,53,10],[53,11,53,12],[53,13,53,14],[53,15,53,16],[53,17,53,18],[53,19,53,20],[53,21,53,22],[53,23,53,24],[53,25,53,26],[54,1,54,2],[54,3,54,4],[54,5,54,6],[54,7,54,8],[54,9,54,10],[54,11,54,12],[54,13,54,14],[54,15,54,16],[54,17,54,18],[54,19,54,20],[54,21,54,22],[54,23,54,24],[54,25,54,26],[56,1,56,2],[56,3,56,4],[56,5,56,6],[56,7,56,8],[56,9,56,10],[56,11,56,12],[56,13,56,14],[56,15,56,16],[56,17,56,18],[56,19,56,20],[56,21,56,22],[56,23,56,24],[56,25,56,26],[57,1,57,2],[57,3,57,4],[57,5,57,6],[57,7,57,8],[57,9,57,10],[57,11,57,12],[57,13,57,14],[57,15,57,16],[57,17,57,18],[57,19,57,20],[57,21,57,22],[57,23,57,24],[57,25,57,26],[59,1,59,2],[59,3,59,4],[59,5,59,6],[59,7,59,8],[59,9,59,10],[59,11,59,12],[59,13,59,14],[59,15,59,16],[59,17,59,18],[59,19,59,20],[59,21,59,22],[59,23,59,24],[59,25,59,26],[60,1,60,2],[60,3,60,4],[60,5,60,6],[60,7,60,8],[60,9,60,10],[60,11,60,12],[60,13,60,14],[60,15,60,16],[60,17,60,18],[60,19,60,20],[60,21,60,22],[60,23,60,24],[60,25,60,26],[62,1,62,2],[62,3,62,4],[62,5,62,6],[62,7,62,8],[62,9,62,10],[62,11,62,12],[62,13,62,14],[62,15,62,16],[62,17,62,18],[62,19,62,20],[62,21,62,22],[62,23,62,24],[62,25,62,26],[63,1,63,2],[63,3,63,4],[63,5,63,6],[63,7,63,8],[63,9,63,10],[63,11,63,12],[63,13,63,14],[63,15,63,16],[63,17,63,18],[63,19,63,20],[63,21,63,22],[63,23,63,24],[63,25,63,26],[65,1,65,2],[65,3,65,4],[65,5,65,6],[65,7,65,8],[65,9,65,10],[65,11,65,12],[65,13,65,14],[65,15,65,16],[65,17,65,18],[65,19,65,20],[65,21,65,22],[65,23,65,24],[65,25,65,26],[66,1,66,2],[66,3,66,4],[66,5,66,6],[66,7,66,8],[66,9,66,10],[66,11,66,12],[66,13,66,14],[66,15,66,16],[66,17,66,18],[66,19,66,20],[66,21,66,22],[66,23,66,24],[66,25,66,26],[68,1,68,2],[68,3,68,4],[68,5,68,6],[68,7,68,8],[68,9,68,10],[68,11,68,12],[68,13,68,14],[68,15,68,16],[68,17,68,18],[68,19,68,20],[68,21,68,22],[68,23,68,24],[68,25,68,26],[69,1,69,2],[69,3,69,4],[69,5,69,6],[69,7,69,8],[69,9,69,10],[69,11,69,12],[69,13,69,14],[69,15,69,16],[69,17,69,18],[69,19,69,20],[69,21,69,22],[69,23,69,24],[69,25,69,26],[71,1,71,2],[71,3,71,4],[71,5,71,6],[71,7,71,8],[71,9,71,10],[71,11,71,12],[71,13,71,14],[71,15,71,16],[71,17,71,18],[71,19,71,20],[71,21,71,22],[71,23,71,24],[71,25,71,26],[72,1,72,2],[72,3,72,4],[72,5,72,6],[72,7,72,8],[72,9,72,10],[72,11,72,12],[72,13,72,14],[72,15,72,16],[72,17,72,18],[72,19,72,20],[72,21,72,22],[72,23,72,24],[72,25,72,26],[74,1,74,2],[74,3,74,4],[74,5,74,6],[74,7,74,8],[74,9,74,10],[74,11,74,12],[74,13,74,14],[74,15,74,16],[74,17,74,18],[74,19,74,20],[74,21,74,22],[74,23,74,24],[74,25,74,26],[75,1,75,2],[75,3,75,4],[75,5,75,6],[75,7,75,8],[75,9,75,10],[75,11,75,12],[75,13,75,14],[75,15,75,16],[75,17,75,18],[75,19,75,20],[75,21,75,22],[75,23,75,24],[75,25,75,26],[77,1,77,2],[77,3,77,4],[77,5,77,6],[77,7,77,8],[77,9,77,10],[77,11,77,12],[77,13,77,14],[77,15,77,16],[77,17,77,18],[77,19,77,20],[77,21,77,22],[77,23,77,24],[77,25,77,26],[78,1,78,2],[78,3,78,4],[78,5,78,6],[78,7,78,8],[78,9,78,10],[78,11,78,12],[78,13,78,14],[78,15,78,16],[78,17,78,18],[78,19,78,20],[78,21,78,22],[78,23,78,24],[78,25,78,26],[80,1,80,2],[80,3,80,4],[80,5,80,6],[80,7,80,8],[80,9,80,10],[80,11,80,12],[80,13,80,14],[80,15,80,16],[80,17,80,18],[80,19,80,20],[80,21,80,22],[80,23,80,24],[80,25,80,26],[81,1,81,2],[81,3,81,4],[81,5,81,6],[81,7,81,8],[81,9,81,10],[81,11,81,12],[81,13,81,14],[81,15,81,16],[81,17,81,18],[81,19,81,20],[81,21,81,22],[81,23,81,24],[81,25,81,26],[83,1,83,2],[83,3,83,4],[83,5,83,6],[83,7,83,8],[83,9,83,10],[83,11,83,12],[83,13,83,14],[83,15,83,16],[83,17,83,18],[83,19,83,20],[83,21,83,22],[83,23,83,24],[83,25,83,26],[84,1,84,2],[84,3,84,4],[84,5,84,6],[84,7,84,8],[84,9,84,10],[84,11,84,12],[84,13,84,14],[84,15,84,16],[84,17,84,18],[84,19,84,20],[84,21,84,22],[84,23,84,24],[84,25,84,26],[86,1,86,2],[86,3,86,4],[86,5,86,6],[86,7,86,8],[86,9,86,10],[86,11,86,12],[86,13,86,14],[86,15,86,16],[86,17,86,18],[86,19,86,20],[86,21,86,22],[86,23,86,24],[86,25,86,26],[87,1,87,2],[87,3,87,4],[87,5,87,6],[87,7,87,8],[87,9,87,10],[87,11,87,12],[87,13,87,14],[87,15,87,16],[87,17,87,18],[87,19,87,20],[87,21,87,22],[87,23,87,24],[87,25,87,26],[89,1,89,2],[89,3,89,4],[89,5,89,6],[89,7,89,8],[89,9,89,10],[89,11,89,12],[89,13,89,14],[89,15,89,16],[89,17,89,18],[89,19,89,20],[89,21,89,22],[89,23,89,24],[89,25,89,26],[90,1,90,2],[90,3,90,4],[90,5,90,6],[90,7,90,8],[90,9,90,10],[90,11,90,12],[90,13,90,14],[90,15,90,16],[90,17,90,18],[90,19,90,20],[90,21,90,22],[90,23,90,24],[90,25,90,26]]}
["Azerty",null,null,1,null,2,null,3,null,4,null,5,null,6,null,7,null,8,null,9,null,0,null,"°",null,"+"]
[null,"²",null,"&",null,"é","~","\"","#","'","{","(","[","-","|","è","`","_","\\","ç","^","à","@",")","]","=","}"]
["Qwerty","~",null,"!",null,"@",null,"#",null,"$",null,"%",null,"^",null,"&",null,"*",null,"(",null,")",null,"_",null,"+"]
[null,"`",null,1,null,2,null,3,null,4,null,5,null,6,null,7,null,8,null,9,null,0,null,"-",null,"="]
["Bépo","#","¶",1,"„",2,"“",3,"”",4,"≤",5,"≥",6,null,7,"¬",8,"¼",9,"½",0,"¾","°","′","`","″"]
[null,"$","–","\\\"","—","«","<","»",">","»","[",")","]","@","^","+","±","-","−","/","÷","*","×","=","≠","%","‰"]
["QMK B","BP_DLR",null,"BP_DQOT",null,"BP_LGIL",null,"BP_RGIL",null,"BP_LPRN",null,"BP_RPRN",null,"BP_AT",null,"BP_PLUS",null,"BP_MINS",null,"BP_SLSH",null,"BP_ASTR",null,"BP_EQL",null,"BP_PERC"]
[]
[]
["Azerty","A",null,"Z",null,"E",null,"R",null,"T",null,"Y",null,"U",null,"I",null,"O",null,"P",null,"¨",null,"£"]
[null,"a",null,"z",null,"e",null,"r",null,"t",null,"y",null,"u",null,"i",null,"o",null,"p",null,"^",null,"$","¤"]
["Qwerty","Q",null,"W",null,"E",null,"R",null,"T",null,"Y",null,"U",null,"I",null,"O",null,"P",null,"{",null,"}"]
[null,"q",null,"w",null,"e",null,"r",null,"t",null,"y",null,"u",null,"i",null,"o",null,"p",null,"[",null,"]"]
["Bépo","B","¦","É","˝","P","§","O","Œ","È","`","!",null,"V",null,"D","Ð","L",null,"J","Ĳ","Z","Ə","W"]
[null,"b","|","é","´","p","&","o","œ","è","`","^","¡","v","ˇ","d","ð","l",null,"j","ĳ","z","ə","w","˘"]
["QMK B","BP_B",null,"BP_ECUT",null,"BP_P ",null,"BP_O",null,"BP_EGRV",null,"BP_DCRC",null,"BP_V",null,"BP_D",null,"BP_L",null,"BP_J",null,"BP_Z",null,"BP_W"]
[]
[]
["Azerty","Q",null,"S",null,"D",null,"F",null,"G",null,"H",null,"J",null,"K",null,"L",null,"M",null,"%",null,"µ"]
[null,"q",null,"s",null,"d",null,"f",null,"g",null,"h",null,"j",null,"k",null,"l",null,"m",null,"ù",null,"*"]
["Qwerty","A",null,"S",null,"D",null,"F",null,"G",null,"H",null,"J",null,"K",null,"L",null,":",null,"@",null,"~"]
[null,"a",null,"s",null,"d",null,"f",null,"g",null,"h",null,"j",null,"k",null,"l",null,";",null,"'",null,"#"]
["Bépo","A","Æ","U","Ù","I","˙","E","¤",";",null,"C","ſ","T","Þ","S","ẞ","R","™","N",null,"M","º","Ç",","]
[null,"a","æ","u","ù","i","¨","e","€",",","’","c","©","t","þ","s","ß","r","®","n","~","m","¯","ç","¸"]
["QMK B","BP_A",null,"BP_U",null,"BP_I",null,"BP_E",null,"BP_COMM",null,"BP_C",null,"BP_T",null,"BP_S",null,"BP_R",null,"BP_N",null,"BP_M ",null,"BP_CCED"]
[]
[]
["Azerty",">",null,"W",null,"X",null,"C",null,"V",null,"B",null,"N",null,"?",null,".",null,"/",null,"§"]
[null,"<",null,"w",null,"x",null,"c",null,"v",null,"b",null,"n",null,",",null,";",null,":",null,"!"]
["Qwerty","|",null,"Z",null,"X",null,"C",null,"V",null,"B",null,"N",null,"M",null,"<",null,">",null,"?"]
[null,"\\\\",null,"z",null,"x",null,"c",null,"v",null,"b",null,"n",null,"m",null,",",null,".",null,"/"]
["Bépo","Ê",null,"À",null,"Y","‘","X","’",":","·","K","⌨","?","̉̉̉","Q","̣̣̣̣","G",null,"H","‡","F","ª"]
[null,"ê","/","à","\\\\","y","{","x","}",".","…","k","~","'","¿","q","°","g","µ","h","†","f","˛"]
["QMK B","BP_ECRC",null,"BP_AGRV",null,"BP_Y",null,"BP_X",null,"BP_DOT",null,"BP_K",null,"BP_APOS",null,"BP_Q",null,"BP_G",null,"BP_H",null,"BP_F"]
[]
[]
[]
[]
["Bépo","#",null,1,null,2,null,3,null,4,null,5,null,6,null,7,null,8,null,9,null,0,null,"°",null,"`"]
["QMK B","BP_HASH",null,"BP_1",null,"BP_2",null,"BP_3",null,"BP_4",null,"BP_5",null,"BP_6",null,"BP_7",null,"BP_8",null,"BP_9",null,"BP_0",null,"BP_DEGR",null,"BP_GRV"]
[]
["Bépo","!",null,";",null,":",null,"?",null,"Space",null,"–",null,"—",null,"<",null,">",null,"[",null,"]",null,"^",null,"±"]
["QMK B","BP_EXLM",null,"BP_SCLN",null,"BP_COLN",null,"BP_QEST",null,"KC_SPC",null,"BP_NDSH",null,"BP_MDSH",null,"BP_LESS",null,"BP_GRTR",null,"BP_LBRC",null,"BP_RBRC",null,"BP_CIRC",null,"BP_PSMS"]
[]
["Bépo","−",null,"÷",null,"÷",null,"×",null,"≠",null,"‰",null,"|",null,"dead ´",null,"&",null,"œ",null,"`",null,"¡",null,"dead ˇ"]
["QMK B","BP_MMNS",null,"BP_OBEL",null,"BP_DVSN",null,"BP_TIMS",null,"BP_DIFF",null,"BP_PMIL",null,"BP_PIPE ",null,"BP_DACT",null,"BP_AMPR",null,"BP_OE",null,"BP_DGRV",null,"BP_IXLM",null,"BP_DCAR"]
[]
["Bépo","ð",null,"dead /",null,"ĳ",null,"ə",null,"dead ˘",null,"æ",null,"ù",null,"dead ¨",null,"€",null,"’",null,"©",null,"þ",null,"ß"]
["QMK B","BP_ETH",null,"BP_DSLH",null,"BP_IJ",null,"BP_SCWA",null,"BP_DBRV",null,"BP_AE",null,"BP_UGRV ",null,"BP_DTRM",null,"BP_EURO",null,"BP_TAPO",null,"BP_CPRT",null,"BP_THRN",null,"BP_SRPS "]
[]
["Bépo","®",null,"dead ~",null,"dead ¯",null,"dead ¸",null,"\\\\",null,"{",null,"}",null,"…",null,"~",null,"¿",null,"dead °",null,"dead Greek key (following key",null,"†"]
["QMK B","BP_RTM",null,"BP_DTLD",null,"BP_DMCR",null,"BP_DCED",null,"BP_BSLS",null,"BP_LCBR",null,"BP_RCBR",null,"BP_ELPS",null,"BP_TILD",null,"BP_TILD",null,"BP_DRNG",null,"BP_DGRK",null,"BP_DAGR"]
[]
["Bépo","dead ˛",null,"_",null,"¶",null,"„",null,"“",null,"”",null,"≤",null,"≥",null,"¬",null,"¼",null,"½",null,"¾",null,"′"]
["QMK B","BP_DOGO",null,"P_UNDS",null,"BP_PARG",null,"BP_LWQT",null,"BP_LDQT",null,"BP_RDQT",null,"BP_LEQL",null,"BP_GEQL",null,"BP_NEGT",null,"BP_1QRT",null,"BP_1HLF",null,"BP_3QRT",null,"BP_MNUT"]
[]
["Bépo","″",null,"¦",null,"˝",null,"§",null,"`",null,"dead ˙",null,"dead ¤",null,"dead ̛",null,"ſ",null,"™",null,"º",null,"dead ˛",null,"‘"]
["QMK B","BP_SCND",null,"BP_BPIP",null,"BP_DDCT",null,"BP_SECT",null,"BP_GRVB",null,"BP_DDTA",null,"BP_DCUR",null,"BP_DHRN",null,"BP_LNGS",null,"BP_TM",null,"BP_ORDO",null,"BP_DCOM",null,"BP_LQOT"]
[]
["Bépo","’",null,"·",null,"dead ̉",null,"dead ̣",null,"‡",null,"ª",null,"Alt",null,"Alt Gr",null,"CtrlG",null,"CtrlD",null,"Del",null,"Tab",null,"Backspace"]
["QMK B","BP_RQOT",null,"BP_IPCT",null,"BP_DHKA",null,"BP_DUDT",null,"BP_DDGR",null,"BP_ORDA",null,"KC_LALT",null,"BP_ALGR",null,"KC_LCTL",null,"KC_RCTL",null,"KC_DELT",null,"KC_TAB",null,"KC_BSPC"]
[]
["Bépo","Enter",null,"Narrow Spce",null,"Fn1",null,"Fn2",null,"Fn3",null,"Fn4",null,"Fn5",null,"ShiftG",null,"ShiftD",null,"Up",null,"Down",null,"Left",null,"Right"]
["QMK B","KC_ENT",null,"BP_NNBS",null,"KC_FN1",null,"KC_FN2",null,"KC_FN3",null,"KC_FN4",null,"KC_FN5",null,"KC_LSFT",null,"KC_RSFT",null,"KC_UP",null,"KC_DOWN",null,"KC_LEFT",null,"KC_RGHT"]
[]
["Bépo","Print Screen",null,"Eteindre",null,"Veille",null,"Reveil",null,"Mail",null,"Calc",null,"Ordinateur",null,"Esc",null,"Caps Lock",null,"GUIL",null,"GUID",null,"Pause",null,"Inser"]
["QMK B","KC_PSCR",null,"KC_PWR",null,"KC_SLEP",null,"KC_WAKE",null,"KC_MAIL",null,"KC_CALC",null,"KC_MYCM",null,"KC_ESC",null,"KC_CAPS",null,"KC_LGUI",null,"KC_RGUI",null,"KC_PAUS",null,"KC_INS"]
[]
["Bépo","F1",null,"F2",null,"F3",null,"F4",null,"F5",null,"F6",null,"F7",null,"F8",null,"F9",null,"F10",null,"F11",null,"F12",null,"F13"]
["QMK B","KC_F1",null,"KC_F2",null,"KC_F3",null,"KC_F4",null,"KC_F5",null,"KC_F6",null,"KC_F7",null,"KC_F8",null,"KC_F9",null,"KC_F10",null,"KC_F11",null,"KC_F12",null,"KC_F13"]
[]
["Bépo","F14",null,"F15",null,"F16",null,"F17",null,"F18",null,"F19",null,"F20",null,"F21",null,"F22",null,"F23",null,"F24",null,"Debut",null,"Fin"]
["QMK B","KC_F14",null,"KC_F15",null,"KC_F16",null,"KC_F17",null,"KC_F18",null,"KC_F19",null,"KC_F20",null,"KC_F21",null,"KC_F22",null,"KC_F23",null,"KC_F24",null,"KC_HOME",null,"KC_END"]
[]
["Bépo","Page Suiv",null,"Page Prec",null,"Del",null,"Eteindre'",null,"Execute",null,"Help",null,"Menu",null,"Select",null,"Again",null,"Undo",null,"Cut",null,"Copy",null,"Paste"]
["QMK B","KC_PGDN",null,"KC_PGUP",null,"KC_DEL",null,"KC_POWER",null,"KC_EXECUTE",null,"KC_HELP",null,"KC_MENU",null,"KC_SELECT",null,"KC_AGAIN",null,"KC_UNDO",null,"KC_CUT",null,"KC_COPY",null,"KC_PASTE"]
[]
["Bépo","Find",null,"Alternate Erase",null,"SysReq/Attention",null,"Cancel",null,"Clear",null,"Prior",null,"Return",null,"Separator",null,"Out",null,"Oper",null,"Clear/Again",null,"CrSel/Props",null,"ExSel"]
["QMK B","KC_FIND",null,"KC_ALT_ERASE",null,"KC_SYSREQ",null,"KC_CANCEL",null,"KC_CLEAR",null,"KC_PRIOR",null,"KC_RETURN",null,"KC_SEPARATOR",null,"KC_OUT",null,"KC_OPER",null,"KC_CLEAR_AGAIN",null,"KC_CRSEL",null,"KC_EXSEL"]
[]
["Bépo","Lect/Pause",null,"Media Sel",null,"Ver Num",{"$nulls":7},"Stop'",null,"Mute",null,"Volume +",null,"Volume -",null,"Titre +",null,"Titre -",null,"Stop"]
["QMK B","KC_MPLY",null,"KC_MSEL",null,"KC_NLCK",{"$nulls":7},"KC_STOP",null,"KC_MUTE",null,"KC_VOLU",null,"KC_VOLD",null,"KC_MNXT",null,"KC_MPRV",null,"KC_MSTP"]
[]
["Bépo","MsUp",null,"MsDown",null,"MsLeft",null,"MsRght",null,"Lclk",null,"Rclk",null,"Clk3",null,"Clk4",null,"Clk5",null,"DeroulH",null,"DeroulB",null,"DeroulG",null,"DeroulD"]
["QMK B","KC_MS_U",null,"KC_MS_D",null,"KC_MS_L",null,"KC_MS_R",null,"KC_BTN1",null,"KC_BTN2",null,"KC_BTN3",null,"KC_BTN4",null,"KC_BTN5",null,"KC_WH_U",null,"KC_WH_D",null,"KC_WH_L",null,"KC_WH_R"]
[]
["Bépo","Souris Acc 0",null,"Souris Acc 1",null,"Souris Acc 2",null,"BKLight Tog",null,"BKLight Step",null,"BKLight On",null,"BKLight Off",null,"BKLight +",null,"BKLight -",null,"BKLight Breath",null,"Luminosité+",null,"Luminosité-"]
["QMK B","KC_ACL0",null,"KC_ACL1",null,"KC_ACL2",null,"BL_TOGG",null,"BL_STEP",null,"BL_ON",null,"BL_OFF",null,"BL_INC",null,"BL_DEC",null,"BL_BRTG",null,"RGB_VAI",null,"RGB_VAD"]
[]
["Bépo","SH(F1)",null,"SH(F2)",null,"SH(F3)",null,"SH(F4)",null,"SH(F5)",null,"SH(F6)",null,"SH(F7)",null,"SH(F8)",null,"SH(F9)",null,"SH(F10)",null,"SH(F11)",null,"SH(F12)"]
["QMK B","LSFT(KC_F1)",null,"LSFT(KC_F2)",null,"LSFT(KC_F3)",null,"LSFT(KC_F4)",null,"LSFT(KC_F5)",null,"LSFT(KC_F6)",null,"LSFT(KC_F7)",null,"LSFT(KC_F8)",null,"LSFT(KC_F9)",null,"LSFT(KC_F10)",null,"LSFT(KC_F11)",null,"LSFT(KC_F12)"]

{"sheet":"allcode","index":7,"n_rows":205,"n_cols":1,"rows_kept":205}
[{"$f":"'Layout 1'!P36","v":"/*Keymap 0: Basic layer"}]
[{"$f":"'Layout 1'!P37","v":"*"}]
[{"$f":"'Layout 1'!P38","v":"* ,--------------------------------------------------.           ,--------------------------------------------------."}]
[{"$f":"'Layout 1'!P39","v":"* |   $    |  \"   |  «   |  »   |  »   |  )   |  =   |           | Del  |  @   |  +   |  -   |  /   |  *   |   %    |"}]
[{"$f":"'Layout 1'!P40","v":"* |--------+------+------+------+------+------+------|           |------+------+------+------+------+------+--------|"}]
[{"$f":"'Layout 1'!P41","v":"* |   ê    |  b   |  é   |  p   |  o   |  è   | Tab  |           |Backsp|  ^   |  v   |  d   |  l   |  j   |   z    |"}]
[{"$f":"'Layout 1'!P42","v":"* |--------+------+------+------+------+------|      |           |      |------+------+------+------+------+--------|"}]
[{"$f":"'Layout 1'!P43","v":"* |   w    |  a   |  u   |  i   |  e   |  ,   |------|           |------|  c   |  t   |  s   |  r   |  n   |   m    |"}]
[{"$f":"'Layout 1'!P44","v":"* |--------+------+------+------+------+------|      |           |      |------+------+------+------+------+--------|"}]
[{"$f":"'Layout 1'!P45","v":"* | ShiftG |  à   |  y   |  x   |  .   |  k   |Enter |           |Enter |  '   |  q   |  g   |  h   |  f   |   ç    |"}]
[{"$f":"'Layout 1'!P46","v":"* `--------+------+------+------+------+-------------'           `-------------+------+------+------+------+--------'"}]
[{"$f":"'Layout 1'!P47","v":"*   |CtrlG | Alt  | GUIL |Alt Gr|ShiftG|                                       | Fn2  |Alt Gr| GUID | Alt  |CtrlD   |"}]
[{"$f":"'Layout 1'!P48","v":"*   `----------------------------------'                                       `----------------------------------'"}]
[{"$f":"'Layout 1'!P49","v":"*                                        ,-------------.       ,-------------."}]
[{"$f":"'Layout 1'!P50","v":"*                                        | Fn3  | Esc  |       |Caps L| Fn3  |       "}]
[{"$f":"'Layout 1'!P51","v":"*                                 ,------|------|------|       |------+------+------."}]
[{"$f":"'Layout 1'!P52","v":"*                                 |      |      | Alt  |       | Alt  |      |      |"}]
[{"$f":"'Layout 1'!P53","v":"*                                 |      |      |------|       |------|      |      |"}]
[{"$f":"'Layout 1'!P54","v":"*                                 |Space | Fn1  | Fn2  |       | Fn4  |ShiftD|Space |"}]
[{"$f":"'Layout 1'!P55","v":"*                                 `--------------------'       `--------------------'"}]
[{"$f":"'Layout 1'!P56","v":"*/"}]
[{"$f":"'Layout 1'!P57","v":"[BASE] = LAYOUT_ergodox("}]
[{"$f":"'Layout 1'!P58","v":"//Left hand"}]
[{"$f":"'Layout 1'!P59","v":"        BP_DLR         ,BP_DQOT        ,BP_LGIL        ,BP_RGIL        ,BP_RGIL        ,BP_RPRN        ,BP_EQL         ,"}]
[{"$f":"'Layout 1'!P60","v":"        BP_ECRC        ,BP_B           ,BP_ECUT        ,BP_P           ,BP_O           ,BP_EGRV        ,KC_TAB         ,"}]
[{"$f":"'Layout 1'!P61","v":"        BP_W           ,BP_A           ,BP_U           ,BP_I           ,BP_E           ,BP_COMM        ,                "}]
[{"$f":"'Layout 1'!P62","v":"        KC_LSFT        ,BP_AGRV        ,BP_Y           ,BP_X           ,BP_DOT         ,BP_K           ,KC_ENT         ,"}]
[{"$f":"'Layout 1'!P63","v":"        KC_LCTL        ,KC_LALT        ,KC_LGUI        ,BP_ALGR        ,KC_LSFT        ,                                "}]
[{"$f":"'Layout 1'!P64","v":"                                                                                        KC_FN3         ,KC_ESC         ,"}]
[{"$f":"'Layout 1'!P65","v":"                                                                                                        KC_LALT        ,"}]
[{"$f":"'Layout 1'!P66","v":"                                                                        KC_SPC         ,KC_FN1         ,KC_FN2         ,"}]
[{"$f":"'Layout 1'!P67","v":"//Right hand"}]
[{"$f":"'Layout 1'!P68","v":"        KC_DELT        ,BP_AT          ,BP_PLUS        ,BP_MINS        ,BP_SLSH        ,BP_ASTR        ,BP_PERC        ,"}]
[{"$f":"'Layout 1'!P69","v":"        KC_BSPC        ,BP_DCRC        ,BP_V           ,BP_D           ,BP_L           ,BP_J           ,BP_Z           ,"}]
[{"$f":"'Layout 1'!P70","v":"                        BP_C           ,BP_T           ,BP_S           ,BP_R           ,BP_N           ,BP_M           ,"}]
[{"$f":"'Layout 1'!P71","v":"        KC_ENT         ,BP_APOS        ,BP_Q           ,BP_G           ,BP_H           ,BP_F           ,BP_CCED        ,"}]
[{"$f":"'Layout 1'!P72","v":"                                        KC_FN2         ,BP_ALGR        ,KC_RGUI        ,KC_LALT        ,KC_RCTL        ,"}]
[{"$f":"'Layout 1'!P73","v":"        KC_CAPS        ,KC_FN3         ,                                                                                "}]
[{"$f":"'Layout 1'!P74","v":"        KC_LALT        ,                                                                                                "}]
[{"$f":"'Layout 1'!P75","v":"        KC_FN4         ,KC_RSFT        ,KC_SPC                                                                         "}]
[{"$f":"'Layout 1'!P76","v":"    ),"}]
[{"$f":"'Layout 2'!P36","v":"/*Keymap 1: Numéric layer"}]
[{"$f":"'Layout 2'!P37","v":"*"}]
[{"$f":"'Layout 2'!P38","v":"* ,--------------------------------------------------.           ,--------------------------------------------------."}]
[{"$f":"'Layout 2'!P39","v":"* |        |      |      |      |      |      |      |           | Del  |      |  +   |  -   |  /   |  *   |   %    |"}]
[{"$f":"'Layout 2'!P40","v":"* |--------+------+------+------+------+------+------|           |------+------+------+------+------+------+--------|"}]
[{"$f":"'Layout 2'!P41","v":"* |        |      |  9   |  8   |  7   |      |  +   |           |  /   |      |  7   |  8   |  9   |      |        |"}]
[{"$f":"'Layout 2'!P42","v":"* |--------+------+------+------+------+------|      |           |      |------+------+------+------+------+--------|"}]
[{"$f":"'Layout 2'!P43","v":"* |        |      |  6   |  5   |  4   | Cut  |------|           |------| Copy |  4   |  5   |  6   |      |        |"}]
[{"$f":"'Layout 2'!P44","v":"* |--------+------+------+------+------+------|      |           |      |------+------+------+------+------+--------|"}]
[{"$f":"'Layout 2'!P45","v":"* |        |      |  3   |  2   |  1   |      |  -   |           |  *   |      |  1   |  2   |  3   |      |        |"}]
[{"$f":"'Layout 2'!P46","v":"* `--------+------+------+------+------+-------------'           `-------------+------+------+------+------+--------'"}]
[{"$f":"'Layout 2'!P47","v":"*   | Calc |      |  .   |  0   |  ,   |                                       |  ,   |  0   |  .   |      |        |"}]
[{"$f":"'Layout 2'!P48","v":"*   `----------------------------------'                                       `----------------------------------'"}]
[{"$f":"'Layout 2'!P49","v":"*                                        ,-------------.       ,-------------."}]
[{"$f":"'Layout 2'!P50","v":"*                                        | Fn3  | Esc  |       |Caps L| Fn3  |       "}]
[{"$f":"'Layout 2'!P51","v":"*                                 ,------|------|------|       |------+------+------."}]
[{"$f":"'Layout 2'!P52","v":"*                                 |      |      |      |       |      |      |      |"}]
[{"$f":"'Layout 2'!P53","v":"*                                 |      |      |------|       |------|      |      |"}]
[{"$f":"'Layout 2'!P54","v":"*                                 |  0   |      |  1   |       |  1   |Paste |  0   |"}]
[{"$f":"'Layout 2'!P55","v":"*                                 `--------------------'       `--------------------'"}]
[{"$f":"'Layout 2'!P56","v":"*/"}]
[{"$f":"'Layout 2'!P57","v":"[NUM] = LAYOUT_ergodox("}]
[{"$f":"'Layout 2'!P58","v":"//Left hand"}]
[{"$f":"'Layout 2'!P59","v":"        KC_TRNS        ,KC_TRNS        ,KC_TRNS        ,KC_TRNS        ,KC_TRNS        ,KC_TRNS        ,KC_TRNS        ,"}]
[{"$f":"'Layout 2'!P60","v":"        KC_TRNS        ,KC_TRNS        ,BP_9           ,BP_8           ,BP_7           ,KC_TRNS        ,BP_PLUS        ,"}]
[{"$f":"'Layout 2'!P61","v":"        KC_TRNS        ,KC_TRNS        ,BP_6           ,BP_5           ,BP_4           ,KC_CUT         ,                "}]
[{"$f":"'Layout 2'!P62","v":"        KC_TRNS        ,KC_TRNS        ,BP_3           ,BP_2           ,BP_1           ,KC_TRNS        ,BP_MINS        ,"}]
[{"$f":"'Layout 2'!P63","v":"        KC_CALC        ,KC_TRNS        ,BP_DOT         ,BP_0           ,BP_COMM        ,                                "}]
[{"$f":"'Layout 2'!P64","v":"                                                                                        KC_FN3         ,KC_ESC         ,"}]
[{"$f":"'Layout 2'!P65","v":"                                                                                                        KC_TRNS        ,"}]
[{"$f":"'Layout 2'!P66","v":"                                                                        BP_0           ,KC_TRNS        ,BP_1           ,"}]
[{"$f":"'Layout 2'!P67","v":"//Right hand"}]
[{"$f":"'Layout 2'!P68","v":"        KC_DELT        ,KC_TRNS        ,BP_PLUS        ,BP_MINS        ,BP_SLSH        ,BP_ASTR        ,BP_PERC        ,"}]
[{"$f":"'Layout 2'!P69","v":"        BP_SLSH        ,KC_TRNS        ,BP_7           ,BP_8           ,BP_9           ,KC_TRNS        ,KC_TRNS        ,"}]
[{"$f":"'Layout 2'!P70","v":"                        KC_COPY        ,BP_4           ,BP_5           ,BP_6           ,KC_TRNS        ,KC_TRNS        ,"}]
[{"$f":"'Layout 2'!P71","v":"        BP_ASTR        ,KC_TRNS        ,BP_1           ,BP_2           ,BP_3           ,KC_TRNS        ,KC_TRNS        ,"}]
[{"$f":"'Layout 2'!P72","v":"                                        BP_COMM        ,BP_0           ,BP_DOT         ,KC_TRNS        ,KC_TRNS        ,"}]
[{"$f":"'Layout 2'!P73","v":"        KC_CAPS        ,KC_FN3         ,                                                                                "}]
[{"$f":"'Layout 2'!P74","v":"        KC_TRNS        ,                                                                                                "}]
[{"$f":"'Layout 2'!P75","v":"        BP_1           ,KC_PASTE       ,BP_0                                                                           "}]
[{"$f":"'Layout 2'!P76","v":"    ),"}]
[{"$f":"'Layout 3'!P36","v":"/*Keymap 2: Arrowlayer - F1-F12"}]
[{"$f":"'Layout 3'!P37","v":"*"}]
[{"$f":"'Layout 3'!P38","v":"* ,--------------------------------------------------.           ,--------------------------------------------------."}]
[{"$f":"'Layout 3'!P39","v":"* |        |  F1  |  F2  |  F3  |  F4  |  F5  |  F6  |           |  F7  |  F8  |  F9  | F10  | F11  | F12  |        |"}]
[{"$f":"'Layout 3'!P40","v":"* |--------+------+------+------+------+------+------|           |------+------+------+------+------+------+--------|"}]
[{"$f":"'Layout 3'!P41","v":"* |        |      |Debut |  Up  | Fin  |      |Inser |           |Page S|      |Debut |  Up  | Fin  |      |        |"}]
[{"$f":"'Layout 3'!P42","v":"* |--------+------+------+------+------+------|      |           |      |------+------+------+------+------+--------|"}]
[{"$f":"'Layout 3'!P43","v":"* |        |      | Left | Down |Right |      |------|           |------|      | Left | Down |Right |      |        |"}]
[{"$f":"'Layout 3'!P44","v":"* |--------+------+------+------+------+------|      |           |      |------+------+------+------+------+--------|"}]
[{"$f":"'Layout 3'!P45","v":"* |        |      |Page P|      |Page S|      |Inser |           |Page P|      |Page P|      |Page S|      |        |"}]
[{"$f":"'Layout 3'!P46","v":"* `--------+------+------+------+------+-------------'           `-------------+------+------+------+------+--------'"}]
[{"$f":"'Layout 3'!P47","v":"*   |CtrlG | Alt  | GUIL |Alt Gr|ShiftG|                                       |      |Alt Gr| GUID | Alt  |CtrlD   |"}]
[{"$f":"'Layout 3'!P48","v":"*   `----------------------------------'                                       `----------------------------------'"}]
[{"$f":"'Layout 3'!P49","v":"*                                        ,-------------.       ,-------------."}]
[{"$f":"'Layout 3'!P50","v":"*                                        | Fn3  | Esc  |       |      | Fn3  |       "}]
[{"$f":"'Layout 3'!P51","v":"*                                 ,------|------|------|       |------+------+------."}]
[{"$f":"'Layout 3'!P52","v":"*                                 |      |      |      |       |      |      |      |"}]
[{"$f":"'Layout 3'!P53","v":"*                                 |      |      |------|       |------|      |      |"}]
[{"$f":"'Layout 3'!P54","v":"*                                 |Deroul| Fn1  |      |       | Fn1  |ShiftD|Deroul|"}]
[{"$f":"'Layout 3'!P55","v":"*                                 `--------------------'       `--------------------'"}]
[{"$f":"'Layout 3'!P56","v":"*/"}]
[{"$f":"'Layout 3'!P57","v":"[ARW] = LAYOUT_ergodox("}]
[{"$f":"'Layout 3'!P58","v":"//Left hand"}]
[{"$f":"'Layout 3'!P59","v":"        KC_TRNS        ,KC_F1          ,KC_F2          ,KC_F3          ,KC_F4          ,KC_F5          ,KC_F6          ,"}]
[{"$f":"'Layout 3'!P60","v":"        KC_TRNS        ,KC_TRNS        ,KC_HOME        ,KC_UP          ,KC_END         ,KC_TRNS        ,KC_INS         ,"}]
[{"$f":"'Layout 3'!P61","v":"        KC_TRNS        ,KC_TRNS        ,KC_LEFT        ,KC_DOWN        ,KC_RGHT        ,KC_TRNS        ,                "}]
[{"$f":"'Layout 3'!P62","v":"        KC_TRNS        ,KC_TRNS        ,KC_PGUP        ,KC_TRNS        ,KC_PGDN        ,KC_TRNS        ,KC_INS         ,"}]
[{"$f":"'Layout 3'!P63","v":"        KC_LCTL        ,KC_LALT        ,KC_LGUI        ,BP_ALGR        ,KC_LSFT        ,                                "}]
[{"$f":"'Layout 3'!P64","v":"                                                                                        KC_FN3         ,KC_ESC         ,"}]
[{"$f":"'Layout 3'!P65","v":"                                                                                                        KC_TRNS        ,"}]
[{"$f":"'Layout 3'!P66","v":"                                                                        KC_WH_L        ,KC_FN1         ,KC_TRNS        ,"}]
[{"$f":"'Layout 3'!P67","v":"//Right hand"}]
[{"$f":"'Layout 3'!P68","v":"        KC_F7          ,KC_F8          ,KC_F9          ,KC_F10         ,KC_F11         ,KC_F12         ,KC_TRNS        ,"}]
[{"$f":"'Layout 3'!P69","v":"        KC_PGDN        ,KC_TRNS        ,KC_HOME        ,KC_UP          ,KC_END         ,KC_TRNS        ,KC_TRNS        ,"}]
[{"$f":"'Layout 3'!P70","v":"                        KC_TRNS        ,KC_LEFT        ,KC_DOWN        ,KC_RGHT        ,KC_TRNS        ,KC_TRNS        ,"}]
[{"$f":"'Layout 3'!P71","v":"        KC_PGUP        ,KC_TRNS        ,KC_PGUP        ,KC_TRNS        ,KC_PGDN        ,KC_TRNS        ,KC_TRNS        ,"}]
[{"$f":"'Layout 3'!P72","v":"                                        KC_TRNS        ,BP_ALGR        ,KC_RGUI        ,KC_LALT        ,KC_RCTL        ,"}]
[{"$f":"'Layout 3'!P73","v":"        KC_TRNS        ,KC_FN3         ,                                                                                "}]
[{"$f":"'Layout 3'!P74","v":"        KC_TRNS        ,                                                                                                "}]
[{"$f":"'Layout 3'!P75","v":"        KC_FN1         ,KC_RSFT        ,KC_WH_R                                                                        "}]
[{"$f":"'Layout 3'!P76","v":"    ),"}]
[{"$f":"'Layout 4'!P36","v":"/*Keymap 3: Multimedia -Mouse"}]
[{"$f":"'Layout 4'!P37","v":"*"}]
[{"$f":"'Layout 4'!P38","v":"* ,--------------------------------------------------.           ,--------------------------------------------------."}]
[{"$f":"'Layout 4'!P39","v":"* |        |      |      |      |      |      |Titre |           |Titre |      |      |      |      |      |        |"}]
[{"$f":"'Layout 4'!P40","v":"* |--------+------+------+------+------+------+------|           |------+------+------+------+------+------+--------|"}]
[{"$f":"'Layout 4'!P41","v":"* |        |      |      | MsUp |      |Deroul|Volume|           | Stop |      |      |      |      |      |        |"}]
[{"$f":"'Layout 4'!P42","v":"* |--------+------+------+------+------+------|      |           |      |------+------+------+------+------+--------|"}]
[{"$f":"'Layout 4'!P43","v":"* | Souris |      |MsLeft|MsDown|MsRght|Deroul|------|           |------|      | Lclk | Rclk |      |      |        |"}]
[{"$f":"'Layout 4'!P44","v":"* |--------+------+------+------+------+------|      |           |      |------+------+------+------+------+--------|"}]
[{"$f":"'Layout 4'!P45","v":"* | Souris |      |Deroul|      |Deroul|      |Volume|           |Lect/P|      |      |      |      |      |        |"}]
[{"$f":"'Layout 4'!P46","v":"* `--------+------+------+------+------+-------------'           `-------------+------+------+------+------+--------'"}]
[{"$f":"'Layout 4'!P47","v":"*   |Souris| Alt  | GUIL |Alt Gr|ShiftG|                                       | Fn2  | Fin  | GUID | Alt  |CtrlD   |"}]
[{"$f":"'Layout 4'!P48","v":"*   `----------------------------------'                                       `----------------------------------'"}]
[{"$f":"'Layout 4'!P49","v":"*                                        ,-------------.       ,-------------."}]
[{"$f":"'Layout 4'!P50","v":"*                                        |      |      |       |      |      |       "}]
[{"$f":"'Layout 4'!P51","v":"*                                 ,------|------|------|       |------+------+------."}]
[{"$f":"'Layout 4'!P52","v":"*                                 |      |      |      |       |      |      |      |"}]
[{"$f":"'Layout 4'!P53","v":"*                                 |      |      |------|       |------|      |      |"}]
[{"$f":"'Layout 4'!P54","v":"*                                 | Mute | Mute | Fn2  |       | Fn1  | Mute | Mute |"}]
[{"$f":"'Layout 4'!P55","v":"*                                 `--------------------'       `--------------------'"}]
[{"$f":"'Layout 4'!P56","v":"*/"}]
[{"$f":"'Layout 4'!P57","v":"[MDIA] = LAYOUT_ergodox("}]
[{"$f":"'Layout 4'!P58","v":"//Left hand"}]
[{"$f":"'Layout 4'!P59","v":"        KC_TRNS        ,KC_TRNS        ,KC_TRNS        ,KC_TRNS        ,KC_TRNS        ,KC_TRNS        ,KC_MPRV        ,"}]
[{"$f":"'Layout 4'!P60","v":"        KC_TRNS        ,KC_TRNS        ,KC_TRNS        ,KC_MS_U        ,KC_TRNS        ,KC_WH_U        ,KC_VOLU        ,"}]
[{"$f":"'Layout 4'!P61","v":"        KC_ACL2        ,KC_TRNS        ,KC_MS_L        ,KC_MS_D        ,KC_MS_R        ,KC_WH_D        ,                "}]
[{"$f":"'Layout 4'!P62","v":"        KC_ACL1        ,KC_TRNS        ,KC_WH_L        ,KC_TRNS        ,KC_WH_R        ,KC_TRNS        ,KC_VOLD        ,"}]
[{"$f":"'Layout 4'!P63","v":"        KC_ACL0        ,KC_LALT        ,KC_LGUI        ,BP_ALGR        ,KC_LSFT        ,                                "}]
[{"$f":"'Layout 4'!P64","v":"                                                                                        KC_TRNS        ,KC_TRNS        ,"}]
[{"$f":"'Layout 4'!P65","v":"                                                                                                        KC_TRNS        ,"}]
[{"$f":"'Layout 4'!P66","v":"                                                                        KC_MUTE        ,KC_MUTE        ,KC_FN2         ,"}]
[{"$f":"'Layout 4'!P67","v":"//Right hand"}]
[{"$f":"'Layout 4'!P68","v":"        KC_MNXT        ,KC_TRNS        ,KC_TRNS        ,KC_TRNS        ,KC_TRNS        ,KC_TRNS        ,KC_TRNS        ,"}]
[{"$f":"'Layout 4'!P69","v":"        KC_MSTP        ,KC_TRNS        ,KC_TRNS        ,KC_TRNS        ,KC_TRNS        ,KC_TRNS        ,KC_TRNS        ,"}]
[{"$f":"'Layout 4'!P70","v":"                        KC_TRNS        ,KC_BTN1        ,KC_BTN2        ,KC_TRNS        ,KC_TRNS        ,KC_TRNS        ,"}]
[{"$f":"'Layout 4'!P71","v":"        KC_MPLY        ,KC_TRNS        ,KC_TRNS        ,KC_TRNS        ,KC_TRNS        ,KC_TRNS        ,KC_TRNS        ,"}]
[{"$f":"'Layout 4'!P72","v":"                                        KC_FN2         ,KC_END         ,KC_RGUI        ,KC_LALT        ,KC_RCTL        ,"}]
[{"$f":"'Layout 4'!P73","v":"        KC_TRNS        ,KC_TRNS        ,                                                                                "}]
[{"$f":"'Layout 4'!P74","v":"        KC_TRNS        ,                                                                                                "}]
[{"$f":"'Layout 4'!P75","v":"        KC_FN1         ,KC_MUTE        ,KC_MUTE                                                                        "}]
[{"$f":"'Layout 4'!P76","v":"    ),"}]
[{"$f":"'Layout 5'!P36","v":"/*Keymap 4: Funtion keys layer"}]
[{"$f":"'Layout 5'!P37","v":"*"}]
[{"$f":"'Layout 5'!P38","v":"* ,--------------------------------------------------.           ,--------------------------------------------------."}]
[{"$f":"'Layout 5'!P39","v":"* |        |      | F12  | F11  | F10  |      |      |           | Del  |      | F10  | F11  | F12  |      |        |"}]
[{"$f":"'Layout 5'!P40","v":"* |--------+------+------+------+------+------+------|           |------+------+------+------+------+------+--------|"}]
[{"$f":"'Layout 5'!P41","v":"* |        |      |  F9  |  F8  |  F7  |      |SH(F2)|           |SH(F3)|      |  F7  |  F8  |  F9  |      |        |"}]
[{"$f":"'Layout 5'!P42","v":"* |--------+------+------+------+------+------|      |           |      |------+------+------+------+------+--------|"}]
[{"$f":"'Layout 5'!P43","v":"* |        |      |  F6  |  F5  |  F4  |SH(F8)|------|           |------|SH(F9)|  F4  |  F5  |  F6  |      |        |"}]
[{"$f":"'Layout 5'!P44","v":"* |--------+------+------+------+------+------|      |           |      |------+------+------+------+------+--------|"}]
[{"$f":"'Layout 5'!P45","v":"* |        |      |  F3  |  F2  |  F1  |      |SH(F5)|           |SH(F7)|      |  F1  |  F2  |  F3  |      |        |"}]
[{"$f":"'Layout 5'!P46","v":"* `--------+------+------+------+------+-------------'           `-------------+------+------+------+------+--------'"}]
[{"$f":"'Layout 5'!P47","v":"*   |CtrlG | Alt  | GUIL |Alt Gr|ShiftG|                                       |      |Alt Gr| GUID | Alt  |CtrlD   |"}]
[{"$f":"'Layout 5'!P48","v":"*   `----------------------------------'                                       `----------------------------------'"}]
[{"$f":"'Layout 5'!P49","v":"*                                        ,-------------.       ,-------------."}]
[{"$f":"'Layout 5'!P50","v":"*                                        | Fn3  | Esc  |       |Caps L| Fn3  |       "}]
[{"$f":"'Layout 5'!P51","v":"*                                 ,------|------|------|       |------+------+------."}]
[{"$f":"'Layout 5'!P52","v":"*                                 |      |      |      |       |      |      |      |"}]
[{"$f":"'Layout 5'!P53","v":"*                                 |      |      |------|       |------|      |      |"}]
[{"$f":"'Layout 5'!P54","v":"*                                 |  F5  |ShiftG|  F8  |       |      |Paste |  F8  |"}]
[{"$f":"'Layout 5'!P55","v":"*                                 `--------------------'       `--------------------'"}]
[{"$f":"'Layout 5'!P56","v":"*/"}]
[{"$f":"'Layout 5'!P57","v":"[FONC] = LAYOUT_ergodox("}]
[{"$f":"'Layout 5'!P58","v":"//Left hand"}]
[{"$f":"'Layout 5'!P59","v":"        KC_TRNS        ,KC_TRNS        ,KC_F12         ,KC_F11         ,KC_F10         ,KC_TRNS        ,KC_TRNS        ,"}]
[{"$f":"'Layout 5'!P60","v":"        KC_TRNS        ,KC_TRNS        ,KC_F9          ,KC_F8          ,KC_F7          ,KC_TRNS        ,LSFT(KC_F2)    ,"}]
[{"$f":"'Layout 5'!P61","v":"        KC_TRNS        ,KC_TRNS        ,KC_F6          ,KC_F5          ,KC_F4          ,LSFT(KC_F8)    ,                "}]
[{"$f":"'Layout 5'!P62","v":"        KC_TRNS        ,KC_TRNS        ,KC_F3          ,KC_F2          ,KC_F1          ,KC_TRNS        ,LSFT(KC_F5)    ,"}]
[{"$f":"'Layout 5'!P63","v":"        KC_LCTL        ,KC_LALT        ,KC_LGUI        ,BP_ALGR        ,KC_LSFT        ,                                "}]
[{"$f":"'Layout 5'!P64","v":"                                                                                        KC_FN3         ,KC_ESC         ,"}]
[{"$f":"'Layout 5'!P65","v":"                                                                                                        KC_TRNS        ,"}]
[{"$f":"'Layout 5'!P66","v":"                                                                        KC_F5          ,KC_LSFT        ,KC_F8          ,"}]
[{"$f":"'Layout 5'!P67","v":"//Right hand"}]
[{"$f":"'Layout 5'!P68","v":"        KC_DELT        ,KC_TRNS        ,KC_F10         ,KC_F11         ,KC_F12         ,KC_TRNS        ,KC_TRNS        ,"}]
[{"$f":"'Layout 5'!P69","v":"        LSFT(KC_F3)    ,KC_TRNS        ,KC_F7          ,KC_F8          ,KC_F9          ,KC_TRNS        ,KC_TRNS        ,"}]
[{"$f":"'Layout 5'!P70","v":"                        LSFT(KC_F9)    ,KC_F4          ,KC_F5          ,KC_F6          ,KC_TRNS        ,KC_TRNS        ,"}]
[{"$f":"'Layout 5'!P71","v":"        LSFT(KC_F7)    ,KC_TRNS        ,KC_F1          ,KC_F2          ,KC_F3          ,KC_TRNS        ,KC_TRNS        ,"}]
[{"$f":"'Layout 5'!P72","v":"                                        KC_TRNS        ,BP_ALGR        ,KC_RGUI        ,KC_LALT        ,KC_RCTL        ,"}]
[{"$f":"'Layout 5'!P73","v":"        KC_CAPS        ,KC_FN3         ,                                                                                "}]
[{"$f":"'Layout 5'!P74","v":"        KC_TRNS        ,                                                                                                "}]
[{"$f":"'Layout 5'!P75","v":"        KC_TRNS        ,KC_PASTE       ,KC_F8                                                                          "}]
[{"$f":"'Layout 5'!P76","v":"    )"}]